BEGIN:VCALENDAR
VERSION:2.0
CALSCALE:GREGORIAN
PRODID:https://kalender.karlsruhe.de/db/termine/
METHOD:PUBLISH
BEGIN:VEVENT
UID:579873
ORGANIZER;CN=Skeptix KA:MAILTO:karlsruhe@skeptix.org
LOCATION:PSK Gebäude Rüppurr
SUMMARY:Quantenquark von Holm Gero Hümmler
DESCRIPTION;ENCODING=QUOTED-PRINTABLE:Wie Esoteriker Physik missverstehen und ihren Glaubenss=C3=A4tzen versuchen
  einen scheinwissenschaftlichen Anstrich geben.=0D=0A=0D=0A    =E2=80=9EQuanten sin
 d Wesenheiten\, die m=C3=BCssen ein Bewusstsein haben=E2=80=9C    \, erkl=C3
 =A4rt ein Anbieter angeblich quantenphysikalischer Therapieger=C3=A4te die 
 Wirkung seiner Produkte. Wer sich auf Einstein\, Heisenberg oder Schr=C3=B6d
 inger beruft\, beansprucht wissenschaftliche Seriosit=C3=A4t und schreckt un
 angenehme Fragen ab.  =0D=0A  =0D=0A     Was steckt aber wirklich hinter den Theori
 en der modernen Physik\, und wie viel =C3=9Cberirdisches l=C3=A4sst sich dam
 it tats=C3=A4chlich erkl=C3=A4ren?    Wo entstehen Missverst=C3=A4ndnisse d
 urch missgl=C3=BCckte Wissenschaftskommunikation\, und wo machen sich Physik
 er selbst zu Kronzeugen zweifelhafter Glaubenssysteme?  =0D=0A  =0D=0A  Holm Gero H
 =C3=BCmmler\, selbst promovierter Physiker\, f=C3=BChrt ein\, womit sich die m
 oderne Physik wirklich besch=C3=A4ftigt und wie Esoteriker diese missverste
 hen und ihren Glaubenss=C3=A4tzen einen scheinwissenschaftlichen Anstrich g
 eben.  =0D=0A  =0D=0A  In seinem 2017 erschienenen Buch "     Relativer Quantenquar
 k    " kritisiert er Versuche\, Esoterik\, Alternativmedizin oder Verschw=C3
 =B6rungstheorien durch falsch verstandene moderne Physik zu erkl=C3=A4ren. 
  =0D=0A  =0D=0A  Mehr Infos =C3=BCber den     Autor    findet ihr hier:     https:/
 /quantenquark.com/der-autor/      Nach dem Vortrag gibt es die Option mit d
 en Teilnehmern im inh=C3=A4usigen Restaurant "Alte Post" essen zu gehen.  $
 $  =0D=0A  Bei Fragen\, wenn ihr euch anmelden wollt oder anderen Anliegen:  =0D=0A 
  Meldet euch gern =C3=BCber     karlsruhe@skeptix.org    bei uns.  =0D=0A  =0D=0A 
 =20
URL:https://kalender.karlsruhe.de/db/termine/literatur/quantenquark_von_holm_gero_hummler
CLASS:PUBLIC
DTSTART:20260509T150000
DTEND:20260509T173000
DTSTAMP:20260313T105434
CATEGORIES:Literatur, Vorträge
ATTACH:https://kalender.karlsruhe.de/db/termine/literatur/quantenquark_von_holm_gero_hummler/file/icon_Skeptix KA.jpg
END:VEVENT

END:VCALENDAR
