BEGIN:VCALENDAR
VERSION:2.0
CALSCALE:GREGORIAN
PRODID:https://kalender.karlsruhe.de/db/termine/
METHOD:PUBLISH
BEGIN:VEVENT
UID:580982
ORGANIZER;CN=Karlsruher Energie- und Klimaschutzagentur:MAILTO:info@kek-karlsruhe.de
LOCATION:Durlach
SUMMARY:Spazier‘ mit – Durlach zeigt seine Sanierungsbeispiele
DESCRIPTION;ENCODING=QUOTED-PRINTABLE:Am 29. Mai um 17 Uhr hei=C3=9Ft es =E2=80=9ESpazier=E2=80=98 mit=E2=80=9C i
 n Durlach. Hauseigent=C3=BCmerinnen und -eigent=C3=BCmer zeigen ihre durchg
 ef=C3=BChrten Sanierungsma=C3=9Fnahmen.=0D=0A=0D=0A  Am Freitag\, 29.05.2026 ist    
  Tag der Nachbarschaft!    An  diesem bundesweiten Aktionstag laden wir Sie
  ein nach Durlach: Beim  gef=C3=BChrten Spaziergang durch die Nachbarschaft
  zeigen engagierte  Hauseigent=C3=BCmerinnen und -eigent=C3=BCmer Sanierung
 sma=C3=9Fnahmen\, die sie an  ihrem Haus durchgef=C3=BChrt haben. Das sind z
 um Beispiel W=C3=A4rmepumpen\,  Photovoltaikanlagen oder D=C3=A4mmma=C3=9Fna
 hmen.    Das Besondere: Sie k=C3=B6nnen direkt ins Gespr=C3=A4ch kommen\, Fr
 agen stellen  und von den Erfahrungen profitieren\, die andere bereits gemac
 ht haben.  So nehmen Sie nicht nur Inspiration\, sondern auch     praktische
  Tipps    f=C3=BCr Ihr eigenes Modernisierungsvorhaben mit.    Die Teilnehm
 erzahl ist begrenzt =E2=80=93 melden Sie sich gleich an und  sichern Sie si
 ch Ihren Platz beim Sanierungsspaziergang in Durlach.    =C2=A9 KEK =20
URL:https://kalender.karlsruhe.de/db/termine/literatur/spazier_mit_durlach_zeigt_seine_sanierungsbeispiele
CLASS:PUBLIC
DTSTART:20260529T170000
DTEND:20260529T183000
DTSTAMP:20260420T110542
CATEGORIES:Stadtleben
ATTACH:https://kalender.karlsruhe.de/db/termine/stadtleben/spazier_mit_durlach_zeigt_seine_sanierungsbeispiele/file/icon_sanierungsspaziergang-kek-on-tour-1024x683.jpg
END:VEVENT

END:VCALENDAR
