BEGIN:VCALENDAR
VERSION:2.0
CALSCALE:GREGORIAN
PRODID:https://kalender.karlsruhe.de/db/termine/
METHOD:PUBLISH
BEGIN:VEVENT
UID:579862
ORGANIZER;CN=Karlsruher Energie- und Klimaschutzagentur:MAILTO:info@kek-karlsruhe.de
LOCATION:Karlsruhe-Neureut
SUMMARY:Spazier‘ mit – Neureut-Heide zeigt seine Sanierungsbeispiele
DESCRIPTION;ENCODING=QUOTED-PRINTABLE:Am 27. April hei=C3=9Ft es =E2=80=9ESpazier=E2=80=98 mit=E2=80=9C in Neureu
 t-Heide. Hauseigent=C3=BCmerinnen und -eigent=C3=BCmer zeigen ihre durchgef
 =C3=BChrten Sanierungsma=C3=9Fnahmen.=0D=0A=0D=0A  Unser Spaziergang zu Sanierungsb
 eispielen in Neureut-Heide gibt Antworten aus erster Hand. Erfahren Sie wie
  unterschiedliche     W=C3=A4rmepumpen    konzepte und eine     Vollsanieru
 ng    erfolgreich  umgesetzt wurde. Gemeinsam besuchen wir verschiedene Geb
 =C3=A4ude in  Neureut-Heide\, deren Eigent=C3=BCmerinnen und Eigent=C3=BCmer
  ihre Erfahrungen mit  uns teilen.    Sie erz=C3=A4hlen von ihren ganz pers
 =C3=B6nlichen Sanierungswegen: von den  ersten Ideen =C3=BCber Herausforder
 ungen bis zu den L=C3=B6sungen\, die heute  zuverl=C3=A4ssig W=C3=A4rme\, Str
 om und Komfort liefern.    Das Besondere: Sie k=C3=B6nnen direkt ins Gespr
 =C3=A4ch kommen\, Fragen stellen  und von den Erfahrungen profitieren\, die a
 ndere bereits gemacht haben.  So nehmen Sie nicht nur Inspiration\, sondern 
 auch     praktische Tipps    f=C3=BCr Ihr eigenes Modernisierungsvorhaben m
 it.    Die Teilnehmerzahl ist begrenzt =E2=80=93 melden Sie sich gleich an 
 und  sichern Sie sich Ihren Platz beim Sanierungsspaziergang in  Neureut-He
 ide. Die Anmeldung finden Sie auf unserer Website.    =0D=0A =20
URL:https://kalender.karlsruhe.de/db/termine/literatur/spazier_mit_neureut_heide_zeigt_seine
CLASS:PUBLIC
DTSTART:20260427T170000
DTEND:20260427T183000
DTSTAMP:20260409T112303
CATEGORIES:Stadtleben
ATTACH:https://kalender.karlsruhe.de/db/termine/stadtleben/spazier_mit_neureut_heide_zeigt_seine/file/icon_sanierungsspaziergang-neureut-heide.jpg
END:VEVENT

END:VCALENDAR
