BEGIN:VCALENDAR
VERSION:2.0
CALSCALE:GREGORIAN
PRODID:https://kalender.karlsruhe.de/db/termine/
METHOD:PUBLISH
BEGIN:VEVENT
UID:579623
ORGANIZER;CN=Stadtbibliothek Karlsruhe - Kinder- und Jugendbibliothek im Prinz-Max-Palais:MAILTO:jugendbibliothek@kultur.karlsruhe.de
LOCATION:Stadtbibliothek Karlsruhe - Kinder- und Jugendbibliothek Karlsruhe im Prinz-Max-Palais
SUMMARY:Trickfilm-Workshop
DESCRIPTION;ENCODING=QUOTED-PRINTABLE:F=C3=BCr Kinder ab 8 Jahren | kostenfrei\, mit Anmeldung=0D=0A=0D=0A  Kommt vorbei u
 nd werdet zu echten Filmregisseur*innen. Bringt dazu eure Lieblings-Spielfi
 guren mit.  =0D=0A     Zielgruppe:    ab 8 Jahren      Anmeldung:    jugendbibl
 iothek@kultur.karlsruhe.de      Eintritt:    kostenfrei      Ort    : Kinde
 r- und Jugendbibliothek    =0D=0A  =0D=0A   =0D=0A      Illustration: AdobeStock -=C2
 =A0 Svitlana     =20
URL:https://kalender.karlsruhe.de/db/termine/literatur/trickfilm_workshop
CLASS:PUBLIC
DTSTART:20260512T143000
DTEND:20260512T173000
DTSTAMP:20260226T111708
CATEGORIES:Literatur, Vorträge
ATTACH:https://kalender.karlsruhe.de/db/termine/literatur/trickfilm_workshop/file/icon_2026.03.31._AdobeStock_ Svitlana.jpg
END:VEVENT

END:VCALENDAR
