BEGIN:VCALENDAR
VERSION:2.0
CALSCALE:GREGORIAN
PRODID:https://kalender.karlsruhe.de/db/termine/
METHOD:PUBLISH
BEGIN:VEVENT
UID:577601
ORGANIZER;CN=Stadtbibliothek Karlsruhe - Kinder- und Jugendbibliothek im Prinz-Max-Palais:MAILTO:jugendbibliothek@kultur.karlsruhe.de
LOCATION:Stadtbibliothek Karlsruhe - Kinder- und Jugendbibliothek Karlsruhe im Prinz-Max-Palais
SUMMARY:Veranstaltungsreihe: Unearthed --AUSGEBUCHT-- – mit LEGO® in die Vergangenheit
DESCRIPTION;ENCODING=QUOTED-PRINTABLE:Kostenfrei\, mit Anmeldung=0D=0A=0D=0A    28. Januar 2026 bis 22. April 2026\, immer 
 mittwochs von 17 bis 18:30 Uhr      Wir entdecken verborgene Sch=C3=A4tze\, 
 verstehen\, wie mit Arch=C3=A4ologie die Vergangenheit entschl=C3=BCsselt we
 rden kann und programmieren unseren Forschungsroboter. Spielerisch verbinde
 n wir Bauen\, Programmieren und kreative Teamarbeit.  =0D=0A =0D=0A   Eine Kooperati
 onsveranstaltung mit dem VDI - Karlsruher Bezirksverein.      =0D=0A        Ter
 mine (vorl=C3=A4ufig):        28. Januar      04. Februar      11. Februar 
      18. Februar      25. Februar      04. M=C3=A4rz      11. M=C3=A4rz    
   18. M=C3=A4rz      25. M=C3=A4rz      15. April      22. April      Sa\, 2
 5. April =E2=80=93 Abschlusspr=C3=A4sentation    =0D=0A =0D=0A     Zielgruppe:    K
 inder von 6 bis 10 Jahre      Anmeldung:    https://www.vdi.de/mitgliedscha
 ft/veranstaltungen/detail/vdini-first-lego-league      Eintritt:    kostenf
 rei      Ort:    Kinder- und Jugendbibliothe\, im U-Boot  =0D=0A =0D=0A   Foto: Quel
 le: Hands on Technology e.V. =20
URL:https://kalender.karlsruhe.de/db/termine/literatur/veranstaltungsreihe_unearthed_ausgebucht
CLASS:PUBLIC
DTSTART:20260128T170000
DTEND:20260422T183000
DTSTAMP:20260121T152024
CATEGORIES:Literatur, Vorträge
ATTACH:https://kalender.karlsruhe.de/db/termine/literatur/veranstaltungsreihe_unearthed_ausgebucht/file/icon_Lego.jpg
END:VEVENT

END:VCALENDAR
