BEGIN:VCALENDAR
VERSION:2.0
CALSCALE:GREGORIAN
PRODID:https://kalender.karlsruhe.de/db/termine/
METHOD:PUBLISH
BEGIN:VEVENT
UID:580895
ORGANIZER;CN=Bildungsinitiative "junge alte" der EEB Karlsruhe:MAILTO:annette.weiss@kbz.ekiba.de
LOCATION:Gemeindezentrum Durlach
SUMMARY:Von der Schwesternsammlung bis zur Reichsabtei
DESCRIPTION;ENCODING=QUOTED-PRINTABLE:Das neue Badische Klosterbuch=0D=0A=0D=0A  In drei B=C3=A4nden erfasst das neue\, im
  Juni 2025 erschienene "Badische Klosterbuch" erstmals alle historischen Kl
 =C3=B6ster und religi=C3=B6sen Gemeinschaften in Baden und Hohenzollern. De
 r Vortrag\, der sich regional auf den Raum zwischen Karlsruhe\, Pforzheim und
  Baden-Baden konzentriert\, wird deutlich machen\, wie stark diese Kl=C3=B6st
 er nicht nur das religi=C3=B6se\, sondern auch das wirtschaftliche und kultu
 relle Umfeld gepr=C3=A4gt haben.    Der Referent\, Dr. Wolfgang Zimmermann\, 
 leitete bis M=C3=A4rz 2025 das Generallandesarchiv Karlsruhe und war stellv
 ertretender Vorsitzender der Kommission f=C3=BCr geschichtliche Landeskunde
  in Baden-W=C3=BCrttemberg. Das "Badische Klosterbuch" hat er als Mitheraus
 geber ma=C3=9Fgeblich gepr=C3=A4gt.    Vortr=C3=A4ge bei den "jungen alten"
  immer am Mittwoch und Donnerstag\, jeweils 10.00 bis 11.30 Uhr\, im Gemeinde
 zentrum Durlach\, am Zwinger 5\, und zeitgleich online unter www.jungealte.in
 fo  =0D=0A =20
URL:https://kalender.karlsruhe.de/db/termine/literatur/von_der_schwesternsammlung_bis_zur_reichsabtei
CLASS:PUBLIC
DTSTART:20260430T100000
DTEND:20260430T113000
DTSTAMP:20260415T100000
CATEGORIES:Literatur, Vorträge
ATTACH:https://kalender.karlsruhe.de/db/termine/literatur/von_der_schwesternsammlung_bis_zur_reichsabtei/file/icon_EEB_Logo_junge_alte_grün_Briefkopf.jpg
END:VEVENT

END:VCALENDAR
