BEGIN:VCALENDAR
VERSION:2.0
CALSCALE:GREGORIAN
PRODID:https://kalender.karlsruhe.de/db/termine/
METHOD:PUBLISH
BEGIN:VEVENT
UID:567037
ORGANIZER;CN=Stadtbibliothek Karlsruhe - Stadtteilbibliothek Neureut:MAILTO:bibliothek-neureut@kultur.karlsruhe.de
LOCATION:Stadtbibliothek Karlsruhe - Stadtteilbibliothek Neureut
SUMMARY:VORLESEZEIT in Neureut
DESCRIPTION;ENCODING=QUOTED-PRINTABLE:F=C3=BCr Kinder ab 5 Jahren | kostenfrei\, mit Anmeldung=0D=0A=0D=0A    In der Bibli
 othek wird jeden Freitag um 16 Uhr vorgelesen.    F=C3=BCr Kinder ab 5 Jahr
 en.    =0D=0A      Zielgruppe:    ab 5 Jahren      Anmeldung:    unter Tel. 072
 1 7818976      Eintritt:    kostenfrei      Ort    : Stadtteilbibliothek Ne
 ureut  =0D=0A    =0D=0A    Illustration: AdobeStock - GoodStudio       =0D=0A       =20
URL:https://kalender.karlsruhe.de/db/termine/literatur/vorlesezeit_in_neureut-6
CLASS:PUBLIC
DTSTART:20251114T160000
DTEND:20251114T164500
DTSTAMP:20250314T141540
CATEGORIES:Literatur, Vorträge
ATTACH:https://kalender.karlsruhe.de/db/termine/literatur/vorlesezeit_in_neureut-6/file/icon_SB_Vorlesezeiten_02-2025_Social-Media_Neureut_Lesen.jpg
END:VEVENT

END:VCALENDAR
