BEGIN:VCALENDAR
VERSION:2.0
CALSCALE:GREGORIAN
PRODID:https://kalender.karlsruhe.de/db/termine/
METHOD:PUBLISH
BEGIN:VEVENT
UID:576452
ORGANIZER;CN=Stadtbibliothek Karlsruhe - Kinder- und Jugendbibliothek im Prinz-Max-Palais:MAILTO:jugendbibliothek@kultur.karlsruhe.de
LOCATION:Stadtbibliothek Karlsruhe - Kinder- und Jugendbibliothek Karlsruhe im Prinz-Max-Palais
SUMMARY:VORLESEZEIT mit Basteln in der Kinder- & Jugendbibliothek
DESCRIPTION;ENCODING=QUOTED-PRINTABLE:F=C3=BCr Kinder ab 5 Jahren | kostenfrei\, mit Anmeldung=0D=0A=0D=0A  Wir lauschen e
 iner wundersch=C3=B6nen Geschichte und basteln anschlie=C3=9Fend etwas Pass
 endes zum Thema der Geschichte\, um unserer Kreativit=C3=A4t freien Lauf zu 
 lassen.     =0D=0A     Zielgruppe:    ab 5 Jahren      Anmeldung:    unter Tel.
  0721 / 133-4262      Eintritt:    kostenfrei      Ort    : Kinder- und Jug
 endbibliothek    =0D=0A  =0D=0A   =0D=0A      Illustration: AdobeStock - GoodStudio    
  =20
URL:https://kalender.karlsruhe.de/db/termine/literatur/vorlesezeit_mit_basteln_in_der_kinder_jugendbibliothek-14
CLASS:PUBLIC
DTSTART:20261126T160000
DTEND:20261126T170000
DTSTAMP:20251120T152929
CATEGORIES:Literatur, Vorträge
ATTACH:https://kalender.karlsruhe.de/db/termine/literatur/vorlesezeit_mit_basteln_in_der_kinder_jugendbibliothek-14/file/icon_SB_Vorlesezeiten_02-2025_Social-Media_Jubi_Basteln.jpg
END:VEVENT

END:VCALENDAR
