BEGIN:VCALENDAR
VERSION:2.0
CALSCALE:GREGORIAN
PRODID:https://kalender.karlsruhe.de/db/termine/
METHOD:PUBLISH
BEGIN:VEVENT
UID:576445
ORGANIZER;CN=Stadtbibliothek Karlsruhe - Kinder- und Jugendbibliothek im Prinz-Max-Palais:MAILTO:jugendbibliothek@kultur.karlsruhe.de
LOCATION:Stadtbibliothek Karlsruhe - Kinder- und Jugendbibliothek Karlsruhe im Prinz-Max-Palais
SUMMARY:VORLESEZEIT mit Basteln in der Kinder- & Jugendbibliothek
DESCRIPTION;ENCODING=QUOTED-PRINTABLE:F=C3=BCr Kinder ab 5 Jahren | kostenfrei\, mit Anmeldung=0D=0A=0D=0A  Wir lauschen e
 iner wundersch=C3=B6nen Geschichte und basteln anschlie=C3=9Fend etwas Pass
 endes zum Thema der Geschichte\, um unserer Kreativit=C3=A4t freien Lauf zu 
 lassen.    HEUTE: Der Besuch. Die sch=C3=BCchterne Elise hat vor allen Ding
 en Angst und traut sich kaum noch aus dem Haus. Doch eines Tages steht pl
 =C3=B6tzlich jemand vor ihrer T=C3=BCr. Besuch? Na\, nu.  =0D=0A  =0D=0A     =0D=0A     
 Zielgruppe:    ab 5 Jahren      Anmeldung:    unter Tel. 0721 / 133-4262   
    Eintritt:    kostenfrei      Ort    : Kinder- und Jugendbibliothek    =0D=0A
   =0D=0A   =0D=0A      Illustration: AdobeStock - GoodStudio     =20
URL:https://kalender.karlsruhe.de/db/termine/literatur/vorlesezeit_mit_basteln_in_der_kinder_jugendbibliothek-6
CLASS:PUBLIC
DTSTART:20260430T160000
DTEND:20260430T170000
DTSTAMP:20260317T101300
CATEGORIES:Literatur, Vorträge
ATTACH:https://kalender.karlsruhe.de/db/termine/literatur/vorlesezeit_mit_basteln_in_der_kinder_jugendbibliothek-6/file/icon_SB_Vorlesezeiten_02-2025_Social-Media_Jubi_Basteln.jpg
END:VEVENT

END:VCALENDAR
