BEGIN:VCALENDAR
VERSION:2.0
CALSCALE:GREGORIAN
PRODID:https://kalender.karlsruhe.de/db/termine/
METHOD:PUBLISH
BEGIN:VEVENT
UID:576448
ORGANIZER;CN=Stadtbibliothek Karlsruhe - Kinder- und Jugendbibliothek im Prinz-Max-Palais:MAILTO:jugendbibliothek@kultur.karlsruhe.de
LOCATION:Stadtbibliothek Karlsruhe - Kinder- und Jugendbibliothek Karlsruhe im Prinz-Max-Palais
SUMMARY:VORLESEZEIT mit Basteln in der Kinder- & Jugendbibliothek
DESCRIPTION;ENCODING=QUOTED-PRINTABLE:F=C3=BCr Kinder ab 5 Jahren | kostenfrei\, mit Anmeldung=0D=0A=0D=0A  Wir lauschen e
 iner wundersch=C3=B6nen Geschichte und basteln anschlie=C3=9Fend etwas Pass
 endes zum Thema der Geschichte\, um unserer Kreativit=C3=A4t freien Lauf zu 
 lassen.       HEUTE: Elefanten im Haus. Endlich bekommt Fine neue Nachbarn\,
  sie hofft sehr\, dass die Kinder haben\, mit denen sie spielen kann.  =0D=0A  Ab
 er warum nur sind die Neuen so laut? Muss man sich dar=C3=BCber =C3=A4rgern
  oder sogar f=C3=BCrchten?  =0D=0A  =0D=0A    =0D=0A      Zielgruppe:    ab 5 Jahren   
    Anmeldung:    unter Tel. 0721 / 133-4262      Eintritt:    kostenfrei   
    Ort    : Kinder- und Jugendbibliothek    =0D=0A  =0D=0A   =0D=0A      Illustration: 
 AdobeStock - GoodStudio     =20
URL:https://kalender.karlsruhe.de/db/termine/literatur/vorlesezeit_mit_basteln_in_der_kinder_jugendbibliothek-7
CLASS:PUBLIC
DTSTART:20260723T160000
DTEND:20260723T170000
DTSTAMP:20260317T101415
CATEGORIES:Literatur, Vorträge
ATTACH:https://kalender.karlsruhe.de/db/termine/literatur/vorlesezeit_mit_basteln_in_der_kinder_jugendbibliothek-7/file/icon_SB_Vorlesezeiten_02-2025_Social-Media_Jubi_Basteln.jpg
END:VEVENT

END:VCALENDAR
