BEGIN:VCALENDAR
VERSION:2.0
CALSCALE:GREGORIAN
PRODID:https://kalender.karlsruhe.de/db/termine/
METHOD:PUBLISH
BEGIN:VEVENT
UID:576446
ORGANIZER;CN=Stadtbibliothek Karlsruhe - Kinder- und Jugendbibliothek im Prinz-Max-Palais:MAILTO:jugendbibliothek@kultur.karlsruhe.de
LOCATION:Stadtbibliothek Karlsruhe - Kinder- und Jugendbibliothek Karlsruhe im Prinz-Max-Palais
SUMMARY:VORLESEZEIT mit Basteln in der Kinder- & Jugendbibliothek
DESCRIPTION;ENCODING=QUOTED-PRINTABLE:F=C3=BCr Kinder ab 5 Jahren | kostenfrei\, mit Anmeldung=0D=0A=0D=0A  Wir lauschen e
 iner wundersch=C3=B6nen Geschichte und basteln anschlie=C3=9Fend etwas Pass
 endes zum Thema der Geschichte\, um unserer Kreativit=C3=A4t freien Lauf zu 
 lassen.    HEUTE: Familie Specht braucht ein Zuhaus. Herr und Frau Specht w
 ollen eine Familie gr=C3=BCnden und brauchen daf=C3=BCr unbedingt ein gem
 =C3=BCtliches Zuhause. Daf=C3=BCr m=C3=BCssen sie ganz sch=C3=B6n hart arbe
 iten\, aber es lohnt sich.=C2=A0Eine Klanggeschichte.     =0D=0A     Zielgruppe:
     ab 5 Jahren      Anmeldung:    unter Tel. 0721 / 133-4262      Eintritt
 :    kostenfrei      Ort    : Kinder- und Jugendbibliothek    =0D=0A  =0D=0A   =0D=0A  
     Illustration: AdobeStock - GoodStudio     =20
URL:https://kalender.karlsruhe.de/db/termine/literatur/vorlesezeit_mit_basteln_in_der_kinder_jugendbibliothek-8
CLASS:PUBLIC
DTSTART:20260528T160000
DTEND:20260528T170000
DTSTAMP:20260317T101331
CATEGORIES:Literatur, Vorträge
ATTACH:https://kalender.karlsruhe.de/db/termine/literatur/vorlesezeit_mit_basteln_in_der_kinder_jugendbibliothek-8/file/icon_SB_Vorlesezeiten_02-2025_Social-Media_Jubi_Basteln.jpg
END:VEVENT

END:VCALENDAR
