BEGIN:VCALENDAR
VERSION:2.0
CALSCALE:GREGORIAN
PRODID:https://kalender.karlsruhe.de/db/termine/
METHOD:PUBLISH
BEGIN:VEVENT
UID:579803
ORGANIZER;CN=Stadtbibliothek Karlsruhe - Kinder- und Jugendbibliothek im Prinz-Max-Palais:MAILTO:jugendbibliothek@kultur.karlsruhe.de
LOCATION:Stadtbibliothek Karlsruhe - Kinder- und Jugendbibliothek Karlsruhe im Prinz-Max-Palais
SUMMARY:VORTRAG "Sonne, Mond und Sterne" “ – Naturwissenschaften mal anders!
DESCRIPTION;ENCODING=QUOTED-PRINTABLE:F=C3=BCr Kinder ab 8 Jahren | kostenfrei\, mit Anmeldung=0D=0A=0D=0A  Eine Reise dur
 chs Universum knapp vorbei an schwarzen L=C3=B6chern und das mit einem Kome
 ten als Taxi - sieht so die Reise eines kleinen gr=C3=BCnen M=C3=A4nnchens 
 auf der Suche nach einem neuen Heimatplaneten aus?  =0D=0A  Doch\, wie findet ma
 n Exoplaneten\, was sind schwarze L=C3=B6cher\, was brauchen wir zum Leben? G
 ibt es Au=C3=9Ferirdische? Wie kann man die Eigenschaften der Atmosph=C3=A4
 re eines Planeten untersuchen? Und wann sind wir daheim?  =0D=0A  Der Diplomphy
 siker Prof. Dr. Dieter Fehler l=C3=A4dt zu einer ganz besonderen Vorlesung 
 f=C3=BCr Kinder (gerne gemeinsam mit den Eltern oder Gro=C3=9Feltern) ein. 
  =0D=0A  =0D=0A  =0D=0A     Zielgruppe:    ab 8 Jahren      Anmeldung:    jugendbibliot
 hek@kultur.karlsruhe.de      Eintritt:    kostenfrei      Ort    : Kinder- 
 und Jugendbibliothek    =0D=0A  =0D=0A   =0D=0A      Illustration: AdobeStock -    BNP 
 Design Studio   =20
URL:https://kalender.karlsruhe.de/db/termine/literatur/vortrag_sonne_mond_und_sterne_naturwissenschaften
CLASS:PUBLIC
DTSTART:20260425T103000
DTEND:20260425T113000
DTSTAMP:20260304T181350
CATEGORIES:Literatur, Vorträge
ATTACH:https://kalender.karlsruhe.de/db/termine/literatur/vortrag_sonne_mond_und_sterne_naturwissenschaften/file/icon_AdobeStock_228858556.jpg
END:VEVENT

END:VCALENDAR
