BEGIN:VCALENDAR
VERSION:2.0
CALSCALE:GREGORIAN
PRODID:https://kalender.karlsruhe.de/db/termine/
METHOD:PUBLISH
BEGIN:VEVENT
UID:580978
ORGANIZER;CN=Verbraucherzentrale Baden-Württemberg e. V.:MAILTO:
LOCATION:Online Veranstaltung
SUMMARY:Wärmepumpe im Bestandsgebäude
DESCRIPTION;ENCODING=QUOTED-PRINTABLE:Heizen mit W=C3=A4rmepumpe: Energieberater Dr. Bernd Gewiese gibt im Online
 -Vortrag am 04.05. um 18 Uhr praxisnahe Tipps.=0D=0A=0D=0A    Das erwartet Sie im V
 ortrag:        Wie klimafreundlich ist die W=C3=A4rmepumpe wirklich?      I
 st mein Haus f=C3=BCr eine W=C3=A4rmepumpe geeignet und wie finde ich das h
 eraus?      W=C3=A4rmepumpe im Altbau: Welche Voraussetzungen sind wichtig?
       =C3=9Cberblick =C3=BCber die verschiedenen W=C3=A4rmepumpenarten und 
 ihre Einsatzbereiche      Welche Technik passt am besten zu meinem Geb=C3
 =A4ude?      Welche M=C3=B6glichkeiten gibt es im unsanierten Altbau?      
   Eine Veranstaltung in Kooperation mit der Verbraucherzentrale Baden-W=C3
 =BCrttemberg e. V.      =C2=A9 KEK =20
URL:https://kalender.karlsruhe.de/db/termine/literatur/warmepumpe_im_bestandsgebaude-4
CLASS:PUBLIC
DTSTART:20260504T180000
DTEND:20260504T193000
DTSTAMP:20260417T091300
CATEGORIES:Literatur, Vorträge
ATTACH:https://kalender.karlsruhe.de/db/termine/literatur/warmepumpe_im_bestandsgebaude-4/file/icon_copyright-KEK-Bild-Wärmepumpe.jpg
END:VEVENT

END:VCALENDAR
