BEGIN:VCALENDAR
VERSION:2.0
CALSCALE:GREGORIAN
PRODID:https://kalender.karlsruhe.de/db/termine/
METHOD:PUBLISH
BEGIN:VEVENT
UID:580615
ORGANIZER;CN=Stadtbibliothek Karlsruhe - Kinder- und Jugendbibliothek im Prinz-Max-Palais:MAILTO:jugendbibliothek@kultur.karlsruhe.de
LOCATION:Stadtbibliothek Karlsruhe - Kinder- und Jugendbibliothek Karlsruhe im Prinz-Max-Palais
SUMMARY:WORKSHOP "Green Screen Studio für Kids"
DESCRIPTION;ENCODING=QUOTED-PRINTABLE:Ab 8 Jahren | mit Anmeldung=0D=0A=0D=0A  Mit Hilfe der Green-Screen-Technik verwand
 eln wir den Raum in ein Tor zu fantastischen Orten. Ob Dschungel\, Weltraum 
 oder Zauberschule =E2=80=93 ihr entscheidet\, wohin die Reise geht. Gemeinsa
 m entwickelt ihr kleine Videos oder Fotos und taucht in in neue Welten ein.
     =0D=0A      Zielgruppe:    ab 8 Jahren     =0D=0A   =0D=0A   Anmeldung:    jugendbi
 bliothek@kultur.karlsruhe.de     =0D=0A   =0D=0A   Eintritt:    kostenfrei  =0D=0A     
 =0D=0A     Ort:    Kinder- und Jugendbibliothek        =0D=0A            =0D=0A        
 Illustration: https://gratiscomictag.de/     =20
URL:https://kalender.karlsruhe.de/db/termine/literatur/workshop_green_screen_studio_fur_kids
CLASS:PUBLIC
DTSTART:20260529T140000
DTEND:20260529T160000
DTSTAMP:20260414T111703
CATEGORIES:Literatur, Vorträge
ATTACH:https://kalender.karlsruhe.de/db/termine/literatur/workshop_green_screen_studio_fur_kids/file/icon_2026.05.29_AdobeStock_1M-Production.jpg
END:VEVENT

END:VCALENDAR
