BEGIN:VCALENDAR
VERSION:2.0
CALSCALE:GREGORIAN
PRODID:https://kalender.karlsruhe.de/db/termine/
METHOD:PUBLISH
BEGIN:VEVENT
UID:577631
ORGANIZER;CN=Klimabündnis:MAILTO:info@klimabuendnis-karlsruhe.de
LOCATION:Kulturzentrum Tollhaus
SUMMARY:ZUKUNFT IST JETZT: STEFAN KLEIN "Aufbruch"
DESCRIPTION;ENCODING=QUOTED-PRINTABLE:ZUKUNFT IST JETZT ist eine Veranstaltungsreihe von Tollhaus\, Klimab=C3=BCnd
 nis & Klima-Aktion Karlsruhe. Das ganze Programm: https://www.tollhaus.de/z
 ukunft-ist-jetzt/=0D=0A=0D=0A  Bestseller-Autor Stefan Klein stellt die entscheiden
 de Frage: Warum ver=C3=A4ndern wir nichts\, obwohl wir alles wissen? Klimakr
 ise\, KI\, Demografie und Konflikte fordern uns heraus =E2=80=93 doch alte Ge
 wohnheiten blockieren den Wandel. Mit Wissenschaft und Geschichten zeigt Kl
 ein\, warum wir Neues scheuen\, wie uns Illusionen l=C3=A4hmen =E2=80=93 und 
 warum es trotzdem nicht zu sp=C3=A4t ist\, den Aufbruch zu wagen.    Diensta
 g\, 28.04.2026\, 19:30-21 Uhr\, Lesung\, Moderation: Anna Haas und Klaus Heid  
   Tickets f=C3=BCr "Aufbruch": https://tickets.tollhaus.de/produkte/89381-t
 ickets-stefan-klein-kulturzentrum-tollhaus-karlsruhe-am-28-04-2026 =20
URL:https://kalender.karlsruhe.de/db/termine/literatur/zukunft_ist_jetzt_stefan_klein_aufbruch
CLASS:PUBLIC
DTSTART:20260428T193000
DTEND:20260428T210000
DTSTAMP:20260109T093517
CATEGORIES:Literatur, Vorträge
ATTACH:https://kalender.karlsruhe.de/db/termine/literatur/zukunft_ist_jetzt_stefan_klein_aufbruch/file/icon_20260428_Klein_Stefan_bildmarke_1070x600_1766141281.jpg
END:VEVENT

END:VCALENDAR
