BEGIN:VCALENDAR
VERSION:2.0
CALSCALE:GREGORIAN
PRODID:https://kalender.karlsruhe.de/db/termine/
METHOD:PUBLISH
BEGIN:VEVENT
UID:580947
ORGANIZER;CN=Messe-Karlsruhe Veranstaltungen:MAILTO:
LOCATION:Messe Karlsruhe
SUMMARY:art karlsruhe 2027
DESCRIPTION;ENCODING=QUOTED-PRINTABLE:art karlsruhe 2027 I  Klassische Moderne und Gegenwartskunst=0D=0A=0D=0A    art kar
 lsruhe 2027 - Klassische Moderne bis Gegenwartskunst   =0D=0A   Mit ihrer 24. A
 usgabe l=C3=A4dt die art karlsruhe die internationale Kunstwelt vom 18. bis
  21. Februar 2027 in die Messe Karlsruhe ein. In vier Hallen wird das f=C3
 =BCr die art karlsruhe charakteristische\, breite Spektrum k=C3=BCnstlerisch
 er Perspektiven sowie spannungsreiche Gegen=C3=BCberstellungen gezeigt =E2
 =80=93 von Klassischer Moderne =C3=BCber Konkrete Kunst und Pop Art bis hin
  zur Zeitgen=C3=B6ssischen Kunst.   =0D=0A   Weitere Informationen:       art-k
 arlsruhe.de      \,       facebook.com/artkarlsruhe      \,       instagram.c
 om/art_karlsruhe      \,       art-karlsruhe.de/linkedin      .      Donners
 tag bis Samstag: 11:00 Uhr bis 19:00 Uhr Sonntag: 11:00 Uhr bis 18:00 Uhr 
 =20
URL:https://kalender.karlsruhe.de/db/termine/messen_und_kongresse/art_karlsruhe2027n
CLASS:PUBLIC
DTSTART:20270218T000000
DTEND:20270221T000000
DTSTAMP:20260420T175601
CATEGORIES:Messen, Kongresse
ATTACH:https://kalender.karlsruhe.de/db/termine/
END:VEVENT

END:VCALENDAR
