BEGIN:VCALENDAR
VERSION:2.0
CALSCALE:GREGORIAN
PRODID:https://kalender.karlsruhe.de/db/termine/
METHOD:PUBLISH
BEGIN:VEVENT
UID:578767
ORGANIZER;CN=Messe-Karlsruhe Veranstaltungen:MAILTO:
LOCATION:Messe Karlsruhe
SUMMARY:Cannafestival 2026
DESCRIPTION;ENCODING=QUOTED-PRINTABLE:=C2=A0=0D=0A=0D=0A    Willkommen beim CannaFestival 2026   =0D=0A   Dein Sommer-Highlig
 ht in Karlsruhe =E2=80=93 im S=C3=BCden Deutschlands   =0D=0A   Das CannaFestiv
 al verbindet Hanfmesse\, Community und Open-Air-Festival an einem der st=C3
 =A4rksten Standorte Deutschlands. Drei Tage Austausch\, Produkte\, Wissen und
  Live-Musik =E2=80=93 mitten im Dreil=C3=A4ndereck.          Mehr als eine 
 Hanfmesse    =0D=0A      Das CannaFestival verbindet Messe\, Festival und Commun
 ity zu einem einzigartigen Eventformat. Hier treffen Cannabis-Branche\, Szen
 e und neugierige Besucher aufeinander.        Hanfmesse   =0D=0A   Produkte\, Ma
 rken\, Innovationen\, Business & Wissen rund um Cannabis und Hanf.        Fes
 tival & Music   =0D=0A   Open-Air-Feeling\, Live-Musik\, Sommer\, Community =E2=80
 =93 Kultur statt sterile Messehalle.        Community & B2B   =0D=0A   Cannabis
  Social Clubs\, Szene\, Fachpublikum und neugierige Besucher an einem Ort.   
 =20
URL:https://kalender.karlsruhe.de/db/termine/messen_und_kongresse/cannafestival2026n
CLASS:PUBLIC
DTSTART:20260717T000000
DTEND:20260719T000000
DTSTAMP:20260420T175600
CATEGORIES:Messen, Kongresse
ATTACH:https://kalender.karlsruhe.de/db/termine/
END:VEVENT

END:VCALENDAR
