BEGIN:VCALENDAR
VERSION:2.0
CALSCALE:GREGORIAN
PRODID:https://kalender.karlsruhe.de/db/termine/
METHOD:PUBLISH
BEGIN:VEVENT
UID:577775
ORGANIZER;CN=Green Culture Anlaufstelle:MAILTO:festival@greenculture.info
LOCATION:Tollhaus Karlsruhe 
SUMMARY:Green Culture Festival 2026
DESCRIPTION;ENCODING=QUOTED-PRINTABLE:Unser Leitthema: Durchatmen. Was kommt\, was bleibt\, was geht? Kultur zwisch
 en Innovation\, Resilienz und Exnovation=0D=0A=0D=0A  Zeit zum Durchatmen und zum Hi
 nschauen: Welche Impulse treiben Kultur voran\, welche Strukturen wollen wir
  sch=C3=BCtzen\, und was darf losgelassen werden?    Das Green Culture Festi
 val\, Europas gr=C3=B6=C3=9Ftes Fachevent f=C3=BCr Zukunftsf=C3=A4higkeit in
  Kunst\, Kultur\, Medien und Kreativgesellschaft\, geht in die dritte Runde!  
   In Kooperation mit dem=C2=A0TOLLHAUS Karlsruhe=C2=A0bietet die Green Cult
 ure Anlaufstelle am=C2=A09. und 10. Juni 2026=C2=A0Akteur:innen aus allen B
 ereichen der Kultur=E2=80=91\, Kreativ- und Medienlandschaft die Gelegenheit
 \, ihre nachhaltigkeitsbezogenen Initiativen und Aktivit=C3=A4ten vorzustell
 en\, sich auszutauschen\, alte Allianzen zu st=C3=A4rken und neue zu schmiede
 n. Im Jahr 2026 liegt ein verst=C3=A4rkter Fokus auf der Einbindung von jun
 gen Menschen\, insbesondere Studierenden\, die ihre ersten Schritte in Richtu
 ng einer=C2=A0zukunftsf=C3=A4higen Kultur=C2=A0machen wollen.    In herausf
 ordernden Zeiten m=C3=B6chten wir einen Moment des Innehaltens erm=C3=B6gli
 chen: ein bewusstes Durchatmen\, eine kritische Bestandsaufnahme dessen\, was
  sich in den letzten Jahren entwickelt hat\, und eine Auseinandersetzung mit
  der Frage\, wie Kultur auch k=C3=BCnftig handlungsf=C3=A4hig bleibt.      W
 as kommt?=C2=A0Welche Innovationen sind w=C3=BCnschenswert\, praktikabel und
  vorstellbar? Welche neuen Projekte\, Ideen\, Kooperationen und Formate k=C3
 =B6nnen wir selbst gestalten\, um Kultur und Nachhaltigkeit weiter voranzubr
 ingen?      Was bleibt?=C2=A0Welche bestehenden Strukturen\, Prozesse oder I
 nitiativen wollen wir sch=C3=BCtzen und gemeinsam an ver=C3=A4nderte Rahmen
 bedingungen anpassen?      Was geht?=C2=A0Welche Modelle\, Strategien oder R
 outinen m=C3=BCssen wir loslassen\, weil sie unter neuen Bedingungen nicht m
 ehr tragf=C3=A4hig sind?   =20
URL:https://kalender.karlsruhe.de/db/termine/messen_und_kongresse/green_culture_festival2026n
CLASS:PUBLIC
DTSTART:20260609T000000
DTEND:20260610T000000
DTSTAMP:20260112T101546
CATEGORIES:Messen, Kongresse
ATTACH:https://kalender.karlsruhe.de/db/termine/messen_und_kongresse/green_culture_festival2026n/file/icon_GCF26_Grafik.jpg
END:VEVENT

END:VCALENDAR
