BEGIN:VCALENDAR
VERSION:2.0
CALSCALE:GREGORIAN
PRODID:https://kalender.karlsruhe.de/db/termine/
METHOD:PUBLISH
BEGIN:VEVENT
UID:581163
ORGANIZER;CN=Messe-Karlsruhe Veranstaltungen:MAILTO:
LOCATION:Kongresszentrum Karlsruhe
SUMMARY:Innoface Integration Day
DESCRIPTION;ENCODING=QUOTED-PRINTABLE:25-j=C3=A4hriges Firmenjubil=C3=A4um=0D=0A=0D=0A      Wichtige Informationen zur An
 reise und Parkm=C3=B6glichkeiten    =0D=0A      =0D=0A   Bei Gro=C3=9Fveranstaltung
 en oder parallel stattfindenden Veranstaltungen kann es zu Engp=C3=A4ssen b
 ei der Verf=C3=BCgbarkeit unserer Parkpl=C3=A4tze kommen. Bitte beachten Si
 e\, dass das Verkehrsleitsystem die Belegung der Tiefgarage nicht in Echtzei
 t anzeigt. Daher empfehlen wir\, fr=C3=BChzeitig anzureisen.   =0D=0A   Sollte d
 ie Tiefgarage voll sein\, empfehlen wir die Nutzung nahegelegener Parkh=C3
 =A4user.   =0D=0A   F=C3=BCr eine stressfreie Anreise raten wir zudem\, die =C3
 =B6ffentlichen Verkehrsmittel zu nutzen =E2=80=93 die Haltestellen befinden
  sich direkt an unseren Geb=C3=A4uden und sind in weniger als 3 Minuten zu 
 Fu=C3=9F erreichbar. Auch das Fahrrad stellt eine praktische und umweltfreu
 ndliche Option dar.        Vielen Dank f=C3=BCr Ihr Verst=C3=A4ndnis. Wir w
 =C3=BCnschen Ihnen eine angenehme Anreise und viel Freude bei der Veranstal
 tung!   =0D=0A       Ihr Team der Messe Karlsruhe     =20
URL:https://kalender.karlsruhe.de/db/termine/messen_und_kongresse/innoface_integration_day
CLASS:PUBLIC
DTSTART:20261007T000000
DTEND:20261008T000000
DTSTAMP:20260422T175613
CATEGORIES:Messen, Kongresse
ATTACH:https://kalender.karlsruhe.de/db/termine/
END:VEVENT

END:VCALENDAR
