BEGIN:VCALENDAR
VERSION:2.0
CALSCALE:GREGORIAN
PRODID:https://kalender.karlsruhe.de/db/termine/
METHOD:PUBLISH
BEGIN:VEVENT
UID:579504
ORGANIZER;CN=KIT Career Service:MAILTO:
LOCATION:Forum vor dem Audimax (Geb. 30.95), KIT Campus Süd
SUMMARY:KIT-Karrieremesse
DESCRIPTION;ENCODING=QUOTED-PRINTABLE:Format: Pr=C3=A4senz=0D=0A=0D=0A  Die KIT-Karrieremesse  ist die offizielle Firmenk
 ontaktmesse des KIT und richtet sich an  Studierende\, Promovierende\, Alumni
  und Alumnae aller Fachrichtungen.        Wann:      19.-20. Mai 2026\, 12-1
 7 Uhr        Wo:      Forum vor dem Audimax (Geb. 30.95)\, KIT Campus S=C3
 =BCd        Was:      Job-Open-Air f=C3=BCr Studierende\, Promovierende und 
 Alumnae/-i des KIT        Wer:      rund 180 Unternehmen und Institutionen 
 (t=C3=A4glich wechselnd) aus verschiedenen Branchen        Angebot f=C3=BCr
 :      alle Fachrichtungen und Semester        Eintritt:      kostenlos und
  ohne Anmeldung        Die Messe ist f=C3=BCr dich\, wenn du:        im Bach
 elor oder Master studierst oder promovierst oder bereits deinen Abschluss g
 emacht hast.      schon w=C3=A4hrend des Studiums Einblicke in Berufsfelder
  und Unternehmen gewinnen willst\,      einen Praktikumsplatz\, Werkstudieren
 denjob oder eine Abschlussarbeit suchst\,      kurz vor dem Jobeinstieg steh
 st und Kontakte zu potenziellen Arbeitgebern kn=C3=BCpfen m=C3=B6chtest\,   
    dich allgemein =C3=BCber Karrierem=C3=B6glichkeiten\, Branchen und Berufs
 bilder informieren willst.        Deine Vorteile auf einen Blick:        Kn
 =C3=BCpfe in entspannter Open-Air-Atmosph=C3=A4re pers=C3=B6nliche Kontakte
  zu zahlreichen Unternehmen aus unterschiedlichen Branchen.      Profitiere
  von einem Angebot\, das speziell auf KIT-Studierende zugeschnitten ist.    
   Erhalte kostenlose Beratung\, Tipps und CV-Checks des Career Service =E2
 =80=93 unkompliziert und ohne Anmeldung.      Finde direkt passende Stellen
 angebote f=C3=BCr Praktika\, Jobs und den Berufseinstieg.      Spare Zeit un
 d Wege =E2=80=93 die Messe findet direkt vor deiner Haust=C3=BCr am KIT Cam
 pus S=C3=BCd statt.      =0D=0A =20
URL:https://kalender.karlsruhe.de/db/termine/messen_und_kongresse/kit_karrieremesse
CLASS:PUBLIC
DTSTART:20260519T000000
DTEND:20260520T000000
DTSTAMP:20260224T124727
CATEGORIES:Messen, Kongresse
ATTACH:https://kalender.karlsruhe.de/db/termine/messen_und_kongresse/kit_karrieremesse/file/icon_image.jpg
END:VEVENT

END:VCALENDAR
