BEGIN:VCALENDAR
VERSION:2.0
CALSCALE:GREGORIAN
PRODID:https://kalender.karlsruhe.de/db/termine/
METHOD:PUBLISH
BEGIN:VEVENT
UID:579858
ORGANIZER;CN=K3 Büro:MAILTO:k3@kultur.karlsruhe.de
LOCATION:Kulturzentrum Tollhaus
SUMMARY:KreativStart 2026
DESCRIPTION;ENCODING=QUOTED-PRINTABLE:- Kongress f=C3=BCr Kreative\, Start-ups und Gr=C3=BCndende=0D=0A=0D=0A  Gr=C3=BCnde
 n\, kreativ arbeiten\, unternehmerisch denken =E2=80=93 2026 f=C3=BChlt sich 
 all das anders an als noch vor ein paar Jahren. Sicherheiten br=C3=B6ckeln\,
  Rollen verschieben sich\, Gesch=C3=A4ftsmodelle ver=C3=A4ndern sich rasant.
  Genau hier setzt der KreativStart Kongress 2026 an\, Tickets gibt es=C2=A0h
 ier.(Der Link =C3=B6ffnet sich in einem neuen Tab.)    Der Kongress richtet
  sich an Kultur- und Kreativschaffende\, Gr=C3=BCnderinnen\, Solo-Selbstst=C3
 =A4ndige\, Unternehmerinnen =E2=80=93 und an alle\, die sich f=C3=BCr die Zuk
 unft kreativer Arbeit interessieren. Auch Akteur*innen aus Politik\, Verwalt
 ung\, Medien\, Wissenschaft und Kultur sind eingeladen\, mitzudenken und mitzu
 diskutieren.  =0D=0A  Im Mittelpunkt stehen weibliche Perspektiven auf Unterneh
 mertum\, Kreativit=C3=A4t und Wandel. Keine Erfolgsm=C3=A4rchen\, kein Durchh
 alte-Pathos =E2=80=93 sondern ehrliche Einblicke in das\, was es heute wirkl
 ich hei=C3=9Ft\, kreativ zu gr=C3=BCnden und dranzubleiben.  =0D=0A  Die Vortr
 =C3=A4ge erz=C3=A4hlen von:  =0D=0A  -=C2=A0Entscheidungen ohne Garantie  =0D=0A  -
 =C2=A0Fehlern\, aus denen echte Learnings entstanden sind  =0D=0A  -=C2=A0dem Sp
 annungsfeld zwischen Sinn\, Sichtbarkeit und wirtschaftlicher Realit=C3=A4t 
  =0D=0A  -=C2=A0dem Alltag zwischen Cashflow\, Selbstzweifeln und Improvisation 
  =0D=0A  -=C2=A0kreativen Umbr=C3=BCchen\, neuen Arbeitsweisen und hybriden Proz
 essen  =0D=0A  -=C2=A0dem Zusammenspiel von Intuition\, Technologie und k=C3=BCn
 stlerischer Handschrift    Es geht um Wandel als Gestaltungsraum: um das Lo
 slassen alter Narrative\, um neue Formen von Selbstst=C3=A4ndigkeit =E2=80
 =93 und um die Frage\, wie Erfolg jenseits von Wachstum und LinkedIn-Buzz au
 ssehen kann.  =0D=0A  Am zweiten Kongresstag wird es wieder praxisnahe Workshop
 s geben. Hier ist Raum f=C3=BCr Austausch\, Vertiefung und gemeinsames Weite
 rdenken =E2=80=93 mit Menschen\, die =C3=A4hnliche Fragen bewegen und =C3=A4
 hnliche Herausforderungen kennen.  =0D=0A  =0D=0A  Der=C2=A0KreativStart 2026 ist e
 in Ort f=C3=BCr ehrliche Gespr=C3=A4che\, kluge Impulse und neue Perspektive
 n.  =0D=0A  F=C3=BCr alle\, die Kreativit=C3=A4t ernst nehmen =E2=80=93 und sich
  selbst auch.  =0D=0A   Programm    09:00 Uhr=C2=A0=C2=A0=C2=A0=C2=A0Einlass & 
 Akkreditierung  =0D=0A  =0D=0A  09:40 Uhr=C2=A0=C2=A0=C2=A0=C2=A0Sabrina Isaac-F=C3
 =BCtterer (K=C2=B3-B=C3=BCro) - Das K=C2=B3-B=C3=BCro stellt sich vor  =0D=0A  
 10:00 Uhr=C2=A0=C2=A0=C2=A0=C2=A0Toyah Diebel - Endlich am A*sch: Die Story
  von Buttz  =0D=0A  =0D=0A  10:45 Uhr=C2=A0=C2=A0=C2=A0=C2=A0Kaffee-Pause  =0D=0A  =0D=0A  
 11:00 Uhr=C2=A0=C2=A0=C2=A0=C2=A0 Ariane Gebhardt (Good Vibes Berlin) -  =0D=0A
   Shift Happens: The Art of Change  =0D=0A  =0D=0A  11:45 Uhr=C2=A0=C2=A0=C2=A0=C2
 =A0 Kaffee-Pause  =0D=0A  =0D=0A  12:00 Uhr=C2=A0=C2=A0=C2=A0=C2=A0Antje Venjakob -
  Wissenschaft trifft Unternehmertum: Der Weg vom Labor zur eigenen Firma  $
 $  =0D=0A  12:40 Uhr=C2=A0=C2=A0=C2=A0=C2=A0Mira Kleine (MFG Baden-W=C3=BCrttem
 berg) -=C2=A0CO.VISION =E2=80=93 Transformation durch Zusammenarbeit  =0D=0A  $
 $  13:00 Uhr=C2=A0=C2=A0=C2=A0=C2=A0Mittagspause  =0D=0A  =0D=0A  14:00 Uhr=C2=A0
 =C2=A0=C2=A0=C2=A0Nora-Vanessa Wohlert - Achterbahnfahrt Gr=C3=BCnden - mei
 ne gr=C3=B6=C3=9Ften Fehler und was ich daraus gelernt habe  =0D=0A  =0D=0A  14:45 
 Uhr=C2=A0=C2=A0=C2=A0=C2=A0Kaffee-Pause  =0D=0A  =0D=0A  15:00 Uhr=C2=A0=C2=A0=C2
 =A0=C2=A0Ivonne Veith und Monica Menez (Synthetic Styles) - Wonder Panic 
 =E2=80=93 Wenn KI nicht ersetzt\, sondern neu erschafft  =0D=0A  =0D=0A  15:45 Uhr
 =C2=A0=C2=A0=C2=A0=C2=A0Kaffee-Pause  =0D=0A  =0D=0A  16:00 Uhr=C2=A0=C2=A0=C2=A0
 =C2=A0Julia Habermaier\, Tanja Haller (dot on GmbH) - Klebensweisheiten -  $
 $  Was wir =C3=BCbers Gr=C3=BCnden\, Scheitern und Weiterkleben gelernt habe
 n  =0D=0A  =0D=0A  16:45 Uhr=C2=A0=C2=A0=C2=A0=C2=A0Kaffee-Pause  =0D=0A  =0D=0A  17:00 Uhr
 =C2=A0=C2=A0=C2=A0=C2=A0Lena R=C3=BCbelmann (GIG Mannhei) - Die As und Os d
 er Teamgr=C3=BCndung _oder_ Starke Teams - ein Pl=C3=A4doyer f=C3=BCr die T
 eamgr=C3=BCndung!    Tickets f=C3=BCr den Kongress gibt es hier >>(Der Link
  =C3=B6ffnet sich in einem neuen Tab.)  =0D=0A  =0D=0A  18:00 Uhr=C2=A0=C2=A0=C2=A0
 =C2=A0Veranstaltungsende / Pause  =0D=0A  18:30 Uhr=C2=A0=C2=A0=C2=A0=C2=A0Einl
 ass f=C3=BCr 7=C3=977  =0D=0A  =0D=0A  19:00 Uhr=C2=A0=C2=A0=C2=A0 7=C3=977 - Siebe
 n Kreative in sieben Minuten (Eintritt frei - kein Ticket erforderlich!)=C2
 =A0Weitere Infos zu den Teilnehmerinnen gibt es hier >>      Workshops am z
 weiten Kongresstag\, 22. April 2026    Ort: FUX - Festigungs- und Expansions
 zentrum (Alter Schlachthof 33) =20
URL:https://kalender.karlsruhe.de/db/termine/messen_und_kongresse/kreativstart2026n
CLASS:PUBLIC
DTSTART:20260421T093000
DTEND:20260422T183000
DTSTAMP:20260309T091836
CATEGORIES:Messen, Kongresse
ATTACH:https://kalender.karlsruhe.de/db/termine/messen_und_kongresse/kreativstart2026n/file/icon_banner1.jpg
END:VEVENT

END:VCALENDAR
