BEGIN:VCALENDAR
VERSION:2.0
CALSCALE:GREGORIAN
PRODID:https://kalender.karlsruhe.de/db/termine/
METHOD:PUBLISH
BEGIN:VEVENT
UID:580125
ORGANIZER;CN=Karlsruher Messe- und Kongress GmbH:MAILTO:info@messe-karlsruhe.de
LOCATION:Messe Karlsruhe
SUMMARY:NEW HOUSING 2026 - Tiny Houses Festival
DESCRIPTION;ENCODING=QUOTED-PRINTABLE:Europas wichtigste Tiny House Messe=0D=0A=0D=0A  Europas wichtigste Veranstaltung f
 =C3=BCr kleines Wohnen findet in diesem Jahr vom 26. bis 28. Juni in der Me
 sse Karlsruhe statt. Besuchende erwartet ein wertvolles Programm =E2=80=93 
 f=C3=BCr Investierende und Privatkunden gleicherma=C3=9Fen.    Nachhaltig u
 nd minimalistisch\, flexibel und kosteng=C3=BCnstig =E2=80=93 Tiny Houses si
 nd all das und noch viel mehr. Was m=C3=B6glich ist zeigt die siebte Ausgab
 e von Europas wichtigster Veranstaltung f=C3=BCr kleines Wohnen vom 26. bis
  28. Juni.    Auch Campingplatzbetreibende und Investierende entdecken das 
 Urlauben und Wohnen auf kleinem Raum immer st=C3=A4rker f=C3=BCr ihre Kundi
 nnen und Kunden. F=C3=BCr diese Besuchendengruppe h=C3=A4lt die NEW HOUSING
  2026 mit dem Business Day am Freitag\, den 26.06. ein besonderes Angebot be
 reit.    Das beliebte Tiny House Festival der NEW HOUSING findet wie gewohn
 t weiterhin statt. An allen drei Messetagen erwarten die Besuchenden mehr a
 ls 80 Ausstellende mit mehr als 30 H=C3=A4usern. Auch Themen wie die Finanz
 ierung\, sanit=C3=A4re Angelegenheiten oder Gartenpflege haben ihren Platz a
 uf der NEW HOUSING. In 30-min=C3=BCtigen Vortr=C3=A4gen sprechen erfahrene 
 Bewohnende und andere Tiny-Profis =C3=BCber alles\, was Interessierte von Kl
 einwohnformen wissen sollten.    Wieder mit dabei sind die Workshops. Welch
 e das sind\, k=C3=B6nnen Interessierte wenige Wochen vor der Veranstaltung a
 uf der Website der NEW HOUSING nachlesen. Manche Minih=C3=A4user sind etwas
  gr=C3=B6=C3=9Fer als andere. Und f=C3=BCr die gibt es bei der NEW HOUSING 
 die Tiny Giants Area.    Besonders beliebt ist seit Jahren das begr=C3=BCnt
 e Atrium im Herzen der Messe Karlsruhe. Dort finden Besuchende Musik\, Food 
 Trucks\, viel Platz zum Entspannen und gute Getr=C3=A4nke. =20
URL:https://kalender.karlsruhe.de/db/termine/messen_und_kongresse/new_housing_2026_tiny_houses_festival
CLASS:PUBLIC
DTSTART:20260626T100000
DTEND:20260628T180000
DTSTAMP:20260318T093900
CATEGORIES:Messen, Kongresse
ATTACH:https://kalender.karlsruhe.de/db/termine/messen_und_kongresse/new_housing_2026_tiny_houses_festival/file/icon_NH_26_Banner_600x650px_VA_Kalender_StadtKA.jpg
END:VEVENT

END:VCALENDAR
