BEGIN:VCALENDAR
VERSION:2.0
CALSCALE:GREGORIAN
PRODID:https://kalender.karlsruhe.de/db/termine/
METHOD:PUBLISH
BEGIN:VEVENT
UID:578554
ORGANIZER;CN=Messe-Karlsruhe Veranstaltungen:MAILTO:
LOCATION:Messe Karlsruhe
SUMMARY:NEW HOUSING - Tiny House Festival 2026
DESCRIPTION;ENCODING=QUOTED-PRINTABLE:NEW HOUSING - Tiny House Festival 2026=0D=0A=0D=0A    Nachhaltig und minimalistisch
 \, flexibel und kosteng=C3=BCnstig =E2=80=93 Tiny Houses sind all das und no
 ch viel mehr. Was bereits m=C3=B6glich ist und in Zukunft sein wird\, zeigt 
 die NEW HOUSING der Messe Karlsruhe. Die siebte Ausgabe von Europas wichtig
 ster Veranstaltung f=C3=BCr kleines Wohnen findet vom 26. bis 28. Juni stat
 t.        Bei der diesj=C3=A4hrigen Veranstaltung zeigen mehr als 80 Ausste
 llende alles\, was zum Leben auf kleinem Raum dazugeh=C3=B6rt. Besuchende k
 =C3=B6nnen au=C3=9Ferdem rund 30 verschiedene Modulh=C3=A4user\, Tiny Houses
  und Co. besichtigen. Expertinnen und Experten aus der Branche teilen deren
  geballtes Know-how\, Best Practices und bieten so den direkten Draht zur Br
 anche.        Erstmals bietet die NEW HOUSING in diesem Jahr den Business D
 ay an. Dieser findet am Messefreitag parallel zum Tiny House Festival statt
  und richtet sich an Investoren\, Kommunen und Tourismusbetreibende.        
 Erleben Sie den Wandel des Wohnens =E2=80=93 auf der NEW HOUSING in Karlsru
 he.      Begin: 11:00 Ende: 19:00 =20
URL:https://kalender.karlsruhe.de/db/termine/messen_und_kongresse/new_housing_tiny_house_festival2026n
CLASS:PUBLIC
DTSTART:20260626T000000
DTEND:20260628T000000
DTSTAMP:20260420T175600
CATEGORIES:Messen, Kongresse
ATTACH:https://kalender.karlsruhe.de/db/termine/
END:VEVENT

END:VCALENDAR
