BEGIN:VCALENDAR
VERSION:2.0
CALSCALE:GREGORIAN
PRODID:https://kalender.karlsruhe.de/db/termine/
METHOD:PUBLISH
BEGIN:VEVENT
UID:578904
ORGANIZER;CN=ZKM | Zentrum für Kunst und Medien Karlsruhe:MAILTO:info@zkm.de
LOCATION:Zentrum für Kunst und Medien (ZKM)
SUMMARY:Open Hertzlab: MARS! Governance
DESCRIPTION;ENCODING=QUOTED-PRINTABLE:Das Hertzlab fliegt zum Mars!=0D=0A=0D=0A    Ort    =0D=0A  Musikbalkon      Kosten    
 =0D=0A  Eintritt frei      Wie k=C3=B6nnen Gesellschaften so in einer lebensfei
 ndlichen Umgebung wie der des Roten Planeten funktionieren? Schlie=C3=9Ft e
 uch den Mitgliedern der Red Dust Society und deren Fachberater:innen an\, um
  dabei zu helfen\, die Gesetze\, Organisationsstrukturen\, Bezeichnungen und S
 ymbole zu entwerfen\, die wir daf=C3=BCr brauchen. Ist die athenische Demokr
 atie\, eine =E2=80=9Ewohlwollende=E2=80=9C wissenschaftliche Diktatur oder A
 narchismus die Antwort? Finden wir es heraus.      Ihr seid her(t)zlich ein
 geladen. Kommt einfach vorbei!    Treffpunkt: Musikbalkon im Foyer\, 1. OG 
 =C3=BCber dem ZKM Haupteingang      =C2=A9 ZKM | Zentrum f=C3=BCr Kunst und
  Medien\, Foto: Micha Reinke      =0D=0A =20
URL:https://kalender.karlsruhe.de/db/termine/messen_und_kongresse/open_hertzlab_mars_governance
CLASS:PUBLIC
DTSTART:20260424T150000
DTEND:20260424T180000
DTSTAMP:20260211T095912
CATEGORIES:Messen, Kongresse
ATTACH:https://kalender.karlsruhe.de/db/termine/messen_und_kongresse/open_hertzlab_mars_governance/file/icon_micha.reinke_kaumna25-159.jpg
END:VEVENT

END:VCALENDAR
