BEGIN:VCALENDAR
VERSION:2.0
CALSCALE:GREGORIAN
PRODID:https://kalender.karlsruhe.de/db/termine/
METHOD:PUBLISH
BEGIN:VEVENT
UID:573736
ORGANIZER;CN=Stadt Karlsruhe - Stadtplanungsamt:MAILTO:bereich.mv@stpla.karlsruhe.de
LOCATION:Friedrichsplatz
SUMMARY:stabil mobil
DESCRIPTION;ENCODING=QUOTED-PRINTABLE:Das Test-Event f=C3=BCr Spezialr=C3=A4der=0D=0A=0D=0A  Das praktische Erleben steht
  im Mittelpunkt: Unter fachkundiger Anleitung k=C3=B6nnen Sie verschiedene 
 Spezialr=C3=A4der kostenfrei testen\, die z.B. speziell f=C3=BCr Seniorinnen
  und Senioren und Menschen mit Mobilit=C3=A4tseinschr=C3=A4nkungen entwicke
 lt wurden oder f=C3=BCr diese Gruppen besonders geeignet sind. Dabei werden
  Sie intensiv begleitet\, um Ihnen ein sicheres und selbstbewusstes Fahrgef
 =C3=BChl zu erm=C3=B6glichen.    Das geschulte Team besteht aus mehreren Pe
 rsonen vor Ort\, die alle Fahrr=C3=A4der genau kennen und mit Rat und Tat zu
 r Seite stehen. Geboten wird eine neutrale Beratung ohne wirtschaftliches I
 nteresse am Verkauf der R=C3=A4der =E2=80=93 Ziel ist\, zu mehr Mobilit=C3
 =A4t und Lebensqualit=C3=A4t zu verhelfen.    Kommen Sie einfach vorbei!   
  Weitere Informationen\, auch zu den R=C3=A4dern:     cargobike.jetzt/stabil
 -mobil      =0D=0A      Foto: cargobike.jetzt_Andreas L=C3=B6rcher   =20
URL:https://kalender.karlsruhe.de/db/termine/messen_und_kongresse/stabil_mobil
CLASS:PUBLIC
DTSTART:20250918T130000
DTEND:20250918T180000
DTSTAMP:20250811T104746
CATEGORIES:Messen, Kongresse
ATTACH:https://kalender.karlsruhe.de/db/termine/messen_und_kongresse/stabil_mobil/file/icon_(c) cargobike.jetzt_Andreas Lörcher_stabil_mobil_2025 (1).jpg
END:VEVENT

END:VCALENDAR
