BEGIN:VCALENDAR
VERSION:2.0
CALSCALE:GREGORIAN
PRODID:https://kalender.karlsruhe.de/db/termine/
METHOD:PUBLISH
BEGIN:VEVENT
UID:577632
ORGANIZER;CN=Klimabündnis:MAILTO:info@klimabuendnis-karlsruhe.de
LOCATION:Kulturzentrum Tollhaus
SUMMARY:ZUKUNFT IST JETZT: HEY HO, LET’S GO – Konferenz der Engagierten
DESCRIPTION;ENCODING=QUOTED-PRINTABLE:ZUKUNFT IST JETZT ist eine Veranstaltungsreihe von Tollhaus\, Klimab=C3=BCnd
 nis & Klima-Aktion Karlsruhe. Das ganze Programm: https://www.tollhaus.de/z
 ukunft-ist-jetzt/=0D=0A=0D=0A  Zum Abschluss der Reihe ZUKUNFT IST JETZT bietet die
  KONFERENZ DER ENGAGIERTEN am Samstag\, dem 13. Juni 2026 ein spannendes Pro
 gramm f=C3=BCr alle\, die sich engagieren und die sich engagieren m=C3=B6cht
 en. Workshops\, Theater\, Impulsvortr=C3=A4ge\, Lesung und die Vorstellung von
  lokalen Initiativen =E2=80=93 die Besucher:innen erwartet ein Tag voller I
 nspiration\, Aktion und Austausch. Ausf=C3=BChrliche Informationen auf https
 ://www.tollhaus.de/zukunft-ist-jetzt/    13-19 Uhr: OFFENES FOYER Lokale In
 itiativen f=C3=BCr Klimaschutz und Nachhaltigkeit in Karlsruhe\, Pr=C3=A4sen
 tation an St=C3=A4nden und Impulsvortr=C3=A4ge    11=E2=80=9314 Uhr: HALLO 
 NACHBARN (Workshop auf Deutsch)\, Tickets: https://tickets.tollhaus.de/produ
 kte/89959-tickets-hallo-nachbarn-outdoor-treffpunkt-tollhaus-haupteingang-a
 m-13-06-2026    15=E2=80=9318 Uhr: HELLO NEIGHBOURS (Workshop in English)\, 
 Tickets: https://tickets.tollhaus.de/produkte/89962-tickets-hello-neighbour
 s-outdoor-treffpunkt-tollhaus-haupteingang-am-2026-06-13    11=E2=80=9312:3
 0 Uhr: A CITIZENS=E2=80=98 ASSEMBLY (Performance in English)\, Tickets: http
 s://tickets.tollhaus.de/produkte/89950-tickets-a-citizens-assembly-english-
 kulturzentrum-tollhaus-karlsruhe-am-13-06-2026    15=E2=80=9316:30 Uhr: EIN
 E B=C3=9CRGERVERSAMMLUNG (Performance auf Deutsch)\, Tickets: https://ticket
 s.tollhaus.de/produkte/89955-tickets-eine-buergerversammlung-deutsch-kultur
 zentrum-tollhaus-karlsruhe-am-13-06-2026    19:30-21 Uhr: LISA POETTINGER "
 Klimakollaps und soziale K=C3=A4mpfe"\, Lesung\, Moderation: Anna Haas und Kl
 aus Heid\, Tickets: https://tickets.tollhaus.de/produkte/89384-tickets-lisa-
 poettinger-kulturzentrum-tollhaus-karlsruhe-am-13-06-2026 =20
URL:https://kalender.karlsruhe.de/db/termine/messen_und_kongresse/zukunft_ist_jetzt_hey_ho_lets_go_konferenz
CLASS:PUBLIC
DTSTART:20260613T110000
DTEND:20260613T210000
DTSTAMP:20260107T083339
CATEGORIES:Messen, Kongresse
ATTACH:https://kalender.karlsruhe.de/db/termine/messen_und_kongresse/zukunft_ist_jetzt_hey_ho_lets_go_konferenz/file/icon_20260613_Lisa_Poettinger_bildmarke_1070x600_1766141627.jpg
END:VEVENT

END:VCALENDAR
