BEGIN:VCALENDAR
VERSION:2.0
CALSCALE:GREGORIAN
PRODID:https://kalender.karlsruhe.de/db/termine/
METHOD:PUBLISH
BEGIN:VEVENT
UID:578147
ORGANIZER;CN=punkt 21 e.V.:MAILTO:punkt21@posteo.de
LOCATION:punkt 21 e.V.
SUMMARY:1000 SOUNDS
DESCRIPTION;ENCODING=QUOTED-PRINTABLE:Leonie Klein Schlagzeugkonzert=0D=0A=0D=0A  Atelier Konzert    Eintritt frei\, um Sp
 enden wird gebeten =20
URL:https://kalender.karlsruhe.de/db/termine/musik/1000_sounds
CLASS:PUBLIC
DTSTART:20260515T193000
DTSTAMP:20260120T084934
CATEGORIES:Musik
ATTACH:https://kalender.karlsruhe.de/db/termine/musik/1000_sounds/file/icon_Leonie Klein_1000 SOUNDS.jpg
END:VEVENT

END:VCALENDAR
