BEGIN:VCALENDAR
VERSION:2.0
CALSCALE:GREGORIAN
PRODID:https://kalender.karlsruhe.de/db/termine/
METHOD:PUBLISH
BEGIN:VEVENT
UID:579993
ORGANIZER;CN=Kulturbüro/ Kulturamt:MAILTO:petra.wessbecher@kultur.karlsruhe.de
LOCATION:Tourist-Information am Marktplatz
SUMMARY:200 Jahre Inspiration Weinbrenner – Architekt einer neuen Ära
DESCRIPTION;ENCODING=QUOTED-PRINTABLE:Launch zum Jubil=C3=A4umsjahres Weinbrenner=0D=0A=0D=0A  Anl=C3=A4sslich des Jubil
 =C3=A4umsjahres =E2=80=9E200 Jahre Inspiration Weinbrenner =E2=80=93 Archit
 ekt einer neuen =C3=84ra=E2=80=9C laden wir Sie herzlich zu einer Weinbrenn
 er-Matinee ein. Dabei geben wir einen =C3=9Cberblick =C3=BCber das Veransta
 ltungsprogramm der beteiligten Karlsruher Kultureinrichtungen mit F=C3=BChr
 ungen\, Stadtrundg=C3=A4ngen\, Ausstellungen und weiteren Formaten rund um Ar
 chitektur\, Stadtbild und die Geschichte Karlsruhes. Zudem pr=C3=A4sentieren
  wir eine begleitende Publikation =E2=80=93 einen kleinen Reisef=C3=BChrer 
 zu Friedrich Weinbrenner.    Copyright:=C2=A0Stadtarchiv =20
URL:https://kalender.karlsruhe.de/db/termine/musik/200_jahre_inspiration_weinbrenner_architekt
CLASS:PUBLIC
DTSTART:20260423T100000
DTEND:20260423T110000
DTSTAMP:20260417T114444
CATEGORIES:Musik
ATTACH:https://kalender.karlsruhe.de/db/termine/musik/200_jahre_inspiration_weinbrenner_architekt/file/icon_8_PBS_oXIIIb_601.jpg
END:VEVENT

END:VCALENDAR
