BEGIN:VCALENDAR
VERSION:2.0
CALSCALE:GREGORIAN
PRODID:https://kalender.karlsruhe.de/db/termine/
METHOD:PUBLISH
BEGIN:VEVENT
UID:573286
ORGANIZER;CN=Badisches Staatstheater Karlsruhe:MAILTO:kartenservice@staatstheater.karlsruhe.de
LOCATION:Staatstheater, siehe Beschreibung
SUMMARY:3. KlangÖffner – Von Elfen und Eseln
DESCRIPTION;ENCODING=QUOTED-PRINTABLE:=C2=A0=0D=0A=0D=0A
URL:https://kalender.karlsruhe.de/db/termine/musik/3_klangoffner_von_elfen_und_eseln
CLASS:PUBLIC
DTSTART:20260513T180000
DTEND:
DTSTAMP:20260421T175524
CATEGORIES:Musik
ATTACH:https://kalender.karlsruhe.de/db/termine/musik/3_klangoffner_von_elfen_und_eseln/file/icon_bsk_2025_26_digitale-formate_3.klangOeffner_von_elfen_und_eseln_stueckinfo_69b835ec9be639.85556106.jpg
END:VEVENT

END:VCALENDAR
