BEGIN:VCALENDAR
VERSION:2.0
CALSCALE:GREGORIAN
PRODID:https://kalender.karlsruhe.de/db/termine/
METHOD:PUBLISH
BEGIN:VEVENT
UID:573391
ORGANIZER;CN=Badisches Staatstheater Karlsruhe:MAILTO:kartenservice@staatstheater.karlsruhe.de
LOCATION:Staatstheater, siehe Beschreibung
SUMMARY:5. Sonderkonzert – Lieben Sie Brahms?
DESCRIPTION;ENCODING=QUOTED-PRINTABLE:=C2=A0=0D=0A=0D=0A
URL:https://kalender.karlsruhe.de/db/termine/musik/5_sonderkonzert_lieben_sie_brahms
CLASS:PUBLIC
DTSTART:20260711T190000
DTEND:
DTSTAMP:20260317T175539
CATEGORIES:Musik
ATTACH:https://kalender.karlsruhe.de/db/termine/musik/5_sonderkonzert_lieben_sie_brahms/file/icon_bsk_digitale-formate_5.soko_lieben_sie_brahms_stueckinfo_69b836916d2629.03737959.jpg
END:VEVENT

END:VCALENDAR
