BEGIN:VCALENDAR
VERSION:2.0
CALSCALE:GREGORIAN
PRODID:https://kalender.karlsruhe.de/db/termine/
METHOD:PUBLISH
BEGIN:VEVENT
UID:580665
ORGANIZER;CN=Stadtamt Durlach & OrgelFabrik Kultur in Durlach e V.:MAILTO:
LOCATION:Alter Friedhof bei der Nikolauskapelle Durlach
SUMMARY:7. Durlacher Kultursommer
DESCRIPTION;ENCODING=QUOTED-PRINTABLE:Die Veranstaltungsreihe Kultursommer in Durlach auf dem Alten Friedhof=0D=0A=0D=0A 
  Bereits zum siebten Mal laden wir =E2=80=93 das Stadtamt Durlach und =E2
 =80=9EDie OrgelFabrik =E2=80=93 Kultur in Durlach e. V.=E2=80=9C =E2=80=93 
 herzlich zum diesj=C3=A4hrigen Kultursommer 2026 ein. Wir freuen uns sehr\, 
 dass sich dieses urspr=C3=BCnglich aus der Corona-Zeit entstandene Festival
  so erfolgreich entwickelt hat und wir Ihnen auch in diesem Jahr wieder ein
  vielf=C3=A4ltiges Programm pr=C3=A4sentieren k=C3=B6nnen.    Von Juli bis 
 August erwartet Sie an zwei besonderen Orten in Durlach ein abwechslungsrei
 ches Kulturangebot: im Schlossgarten und auf dem Alten Friedhof. Dort biete
 n wir K=C3=BCnstlerinnen und K=C3=BCnstlern unterschiedlichster Sparten sow
 ie Kultureinrichtungen und Vereinen eine au=C3=9Fergew=C3=B6hnliche B=C3=BC
 hne.       Seien Sie dabei\, unterst=C3=BCtzen Sie das kulturelle Leben in D
 urlach und genie=C3=9Fen Sie sommerliche Nachmittage und Abende mit Musik\, 
 Theater und Literatur in besonderer Atmosph=C3=A4re.      Aktuelle Informat
 ionen finden Sie in der Presse sowie unter www.kultursommer-durlach.de.    
 =20
URL:https://kalender.karlsruhe.de/db/termine/musik/7_durlacher_kultursommer-1
CLASS:PUBLIC
DTSTART:20260820T190000
DTEND:20260830T214500
DTSTAMP:20260409T112829
CATEGORIES:Stadtleben
ATTACH:https://kalender.karlsruhe.de/db/termine/stadtleben/7_durlacher_kultursommer-1/file/icon_bildmarke_kultursommer2026_grün.jpg
END:VEVENT

END:VCALENDAR
