BEGIN:VCALENDAR
VERSION:2.0
CALSCALE:GREGORIAN
PRODID:https://kalender.karlsruhe.de/db/termine/
METHOD:PUBLISH
BEGIN:VEVENT
UID:579854
ORGANIZER;CN=K3 Büro:MAILTO:k3@kultur.karlsruhe.de
LOCATION:Kulturzentrum Tollhaus
SUMMARY:7x7
DESCRIPTION;ENCODING=QUOTED-PRINTABLE:Sieben Kreative in sieben Minuten=0D=0A=0D=0A  Sieben Karlsruher Kreative haben sie
 ben Minuten Zeit\, sich und ihr Unternehmen zu pr=C3=A4sentieren. Folienpr
 =C3=A4sentation\, Rede\, Unplugged- Konzert oder kleine Show =E2=80=93 alles 
 ist erlaubt. So kreativ wie die Branche selbst ist\, verspricht auch der Abe
 nd zu werden.    Wer kreative Unternehmen kennen lernen m=C3=B6chte\, sich g
 enerell f=C3=BCr Gesch=C3=A4ftsmodelle und Ideenumsetzung von spannenden Un
 ternehmen interessiert\, am Thema Kultur- und Kreativwirtschaft interessiert
  ist\, sich in Karlsruhe vernetzen oder einfach einen unterhaltsamen Abend g
 enie=C3=9Fen m=C3=B6chte\, ist herzlich eingeladen.          Marie Sophie Ge
 rstner      Interdisziplin=C3=A4re K=C3=BCnstlerin    Zwischen freier Kunst
  und Vermittlung entstehen Arbeiten\, in denen Material\, Bild und Raum in Di
 alog treten. In ihrer Kunst aus Holz\, Keramik\, Malerei\, Textil und digitale
 n Medien entfalten sich Fragen nach weiblicher Sichtbarkeit\, Beziehung und 
 Natur.    https://www.instagram.com/marie.sophie.gerstner(Der Link =C3=B6ff
 net sich in einem neuen Tab.)      =0D=0A        Mareike Keller      Producer  
   Projektmanagerin aus der Animationsbranche: Von Werbung und Serie bis zum
  Kinofilm leitet sie flexibel jede Teamgr=C3=B6=C3=9Fe und zeichnet sich du
 rch ihr strukturiertes Arbeiten aus. Im k=C3=BCnstlerischen Kollektiv entwi
 ckeln wir originelle Geschichten und bringen diese auf die Leinwand.      L
 ea LaDoux      S=C3=A4ngerin/Songwriterin    Lea LaDoux ist S=C3=A4ngerin u
 nd Songwriterin aus Waldbronn. Ihre Musik ist Pop mit elektronischen Einfl
 =C3=BCssen. In einer Welt\, in der Selbstunsicherheiten\, Selbstzweifel und 
 =C3=84ngste scheinbar keinen Platz haben d=C3=BCrfen\, m=C3=B6chte Lea genau
  daf=C3=BCr Raum und Bewusstsein schaffen.    https://lealadoux.de(Der Link
  =C3=B6ffnet sich in einem neuen Tab.)      Anou Neumann      Zirkusp=C3=A4
 dagogin\, Independent Publisher und Illustratorin    Anou Neumann ist Zirkus
 p=C3=A4dagogin und -artistin und betreibt den Onlineshop Circus Cards. Hier
  gibt es Kartensets mit selbst illustrierten Zirkustricks =E2=80=93 eine Tr
 icksammlung f=C3=BCr=E2=80=99s Training\, Inspiration und Kommunikationshilf
 e. Schaut gerne vorbei:=C2=A0www.circuscards.de(Der Link =C3=B6ffnet sich i
 n einem neuen Tab.)      the other archive      Kreative Strateginnen & Des
 ignerinnen    Als kreative Strateginnen arbeiten wir an der Schnittstelle v
 on Creative Direction\, strategischem Branding und Social Media. Wir nehmen 
 euch mit in unseren Prozess und zeigen\, wie aus Ideen und Haltungen klare K
 onzepte und visuelle Erz=C3=A4hlungen entstehen\, die Brands im digitalen Ra
 um positionieren.    https://www.theotherarchive.de(Der Link =C3=B6ffnet si
 ch in einem neuen Tab.)      chrizzlyarts      Illustration\, Kunst\, Grafik-
 Design  =0D=0A  Chaos trifft Sensibilit=C3=A4t: Chrissys Arbeiten als Illustrat
 orin kreisen um den allt=C3=A4glichen Wahnsinn mit psychischen Belastungen 
 und versuchen\, Unsichtbares sichtbar zu machen. Zudem arbeitet sie als Graf
 ikerin und l=C3=A4sst auch dort ihre Illustrationen gerne mit einflie=C3=9F
 en.    https://www.chrizzly-arts.de(Der Link =C3=B6ffnet sich in einem neue
 n Tab.)        THEATER:HOCHZWEI      Theaterp=C3=A4dagoginnen    THEATER:HO
 CHZWEI ist doppelte Theaterp=C3=A4dagogik-Power. Anna M=C3=BCller und Virgi
 nie Bousquet bieten Theaterprojekte f=C3=BCr alle an. Mit Spa=C3=9F und Fre
 ude Theater entdecken! Neue Perspektiven und Begegnungen schaffen\, Gemeinsc
 haft st=C3=A4rken und ganzheitliches Lernen stehen bei ihren Projekten im F
 okus.    https://www.theaterhochzwei.com(Der Link =C3=B6ffnet sich in einem
  neuen Tab.)      Die Veranstaltung findet j=C3=A4hrlich im Kulturzentrum T
 ollhaus statt.    7x7 ist eine Kooperation zwischen dem K3-B=C3=BCro\, dem a
 usgeschlachtet e. V. und dem Kulturzentrum Tollhaus. =20
URL:https://kalender.karlsruhe.de/db/termine/musik/7x7-1
CLASS:PUBLIC
DTSTART:20260421T190000
DTEND:20260421T210000
DTSTAMP:20260309T091842
CATEGORIES:Messen, Kongresse
ATTACH:https://kalender.karlsruhe.de/db/termine/messen_und_kongresse/7x7-1/file/icon_7x7.jpg
END:VEVENT

END:VCALENDAR
