BEGIN:VCALENDAR
VERSION:2.0
CALSCALE:GREGORIAN
PRODID:https://kalender.karlsruhe.de/db/termine/
METHOD:PUBLISH
BEGIN:VEVENT
UID:579897
ORGANIZER;CN=Substage Karlsruhe e.V.:MAILTO:info@substage.de
LOCATION:Substage Karlsruhe e.V.
SUMMARY:80ER PARTY
DESCRIPTION;ENCODING=QUOTED-PRINTABLE:+++ Aus organisatorischen Gr=C3=BCnden gibt es f=C3=BCr unsere Partys gener
 ell keinen Vorverkauf oder Reservierungsm=C3=B6glichkeiten\, wir bitten um V
 erst=C3=A4ndnis +++=0D=0A=0D=0A  Das Jahrzehnt der Popmusik! Was w=C3=A4re die Poph
 istorie ohne Queen\, Billy Idol\, Cindy Lauper\, Kim Wilde\, Frankie Goes To Ho
 llywood\, Duran Duran\, Michael Jackson\, New Order und den Simple Minds? Oder
  K=C3=BCnstler wie Depeche Mode\, Madonna\, The Cure und U2\, die in den Achtz
 igern angefangen haben und noch heute konstant Platten ver=C3=B6ffentlichen
 ? Kurz vermutlich. Dank der =E2=80=9ENeuen Deutschen Welle=E2=80=9C\, kurz N
 DW\, hatte auch Deutschland seine ganz pers=C3=B6nlichen 80er Helden und all
 en Grund zum ausflippen. Die knackigen 2\,5 bis 3 Minuten Songs voller musik
 alischem Minimalismus\, spr=C3=BChenden Witz\, frechem Charme und frischem El
 an dominierten die Hitparaden hierzulande. Nena\, Ideal\, Hubert Kah\, Falco u
 nd Trio hie=C3=9Fen die Protagonisten. Dass die 80er auch modetechnisch ein
 iges zu bieten hatten\, d=C3=BCrfte kein Geheimnis sein. Str=C3=A4hnchen\, St
 irnb=C3=A4nder\, Karottenjeans und Neonfarben sind sicher die best=C3=BCrzen
 dsten Geschmacksverirrungen der 80er\, die manch einer sich vielleicht nicht
  unbedingt zur=C3=BCck w=C3=BCnscht. Was bleibt sind die poppigen Melodien 
 der Neon-Pink-Haarlack-Dekade: Heute noch genauso tanzbar wie damals. Der l
 etzte Hitparadenst=C3=BCrmer der ausgehenden 80er Jahre hie=C3=9F Phil Coll
 ins. Wer weiss\, ob der Ex-Genesis mit seinem =E2=80=9EAnother Day In Paradi
 se=E2=80=9C nicht an die 80er Party im Substage dachte? Ganz in diesem Sinn
 e\, Freunde der Nacht: kommen\, staunen und tanzen\, tanzen\, tanzen!    Einlas
 s: 21:00 Uhr    Altersfreigabe: ab 18 Jahren =20
URL:https://kalender.karlsruhe.de/db/termine/musik/80er_party
CLASS:PUBLIC
DTSTART:20260912T210000
DTEND:
DTSTAMP:20260309T175559
CATEGORIES:Musik
ATTACH:https://kalender.karlsruhe.de/db/termine/musik/80er_party/file/icon_large-web-80er-1280x720.jpg
END:VEVENT

END:VCALENDAR
