BEGIN:VCALENDAR
VERSION:2.0
CALSCALE:GREGORIAN
PRODID:https://kalender.karlsruhe.de/db/termine/
METHOD:PUBLISH
BEGIN:VEVENT
UID:577657
ORGANIZER;CN=Substage Karlsruhe e.V.:MAILTO:info@substage.de
LOCATION:Substage Karlsruhe e.V.
SUMMARY:90ER VS. 2000ER PARTY
DESCRIPTION;ENCODING=QUOTED-PRINTABLE:+++ Aus organisatorischen Gr=C3=BCnden gibt es f=C3=BCr unsere Partys gener
 ell keinen Vorverkauf oder Reservierungsm=C3=B6glichkeiten\, wir bitten um V
 erst=C3=A4ndnis +++mit DJ H2O-LEE=0D=0A=0D=0A  Ihr wolltet schon immer mal SEEED\, R
 EDNEX\, LADY GAGA und die BACKSTREET BOYS zusammen auf einer Party h=C3=B6re
 n? Kein Problem! DJ H2O-LEE\, Initiator der seit 2007 im Substage stattfinde
 nden 90er Party\, hat den musikalischen Rahmen seiner Kult-Veranstaltung\, um
  eine Dekade erweitert. Ab sofort rocken er und seine DJ-Crew das Substage 
 unter dem Label: Die 90er vs 2000er PARTY. Nat=C3=BCrlich wurde auch das mu
 sikalische Spektrum erg=C3=A4nzt und so gib es ab sofort neben den 90er Kla
 ssikern wie =E2=80=9EBarbie Girl=E2=80=9C\, =E2=80=9ELemon Tree=E2=80=9C und
  =E2=80=9EWonderwall=E2=80=9C auch Millennium-Klassiker wie =E2=80=9EUmbrel
 la=E2=80=9C\, =E2=80=9ESexy Back=E2=80=9C und =E2=80=9EEmpire State Of Mind
 =E2=80=9C. Freut Euch auf ein echtes Party Inferno mit OASIS\, GREEN DAY\, EM
 INEM\, FETTES BROT\, ROBBIE WILLIAMS\, MADONNA\, SCOOTER\, PINK\, NELLY FURTADO\, 
 KATY PERRY\, PETER FOX\, DAVID GUETTA\, RIHANNA\, OUTKAST\, PAPA ROACH\, NIRVANA 
 und den CHILI PEPPERS! All die gro=C3=9Fen und kleinen Helden Euerer Jugend
  vereint auf einer Party! Klingt gut? Ist es auch!    Einlass: 21:00 Uhr   
  Altersfreigabe: ab 18 Jahren =20
URL:https://kalender.karlsruhe.de/db/termine/musik/90er_vs_2000er_party-1
CLASS:PUBLIC
DTSTART:20260425T210000
DTEND:
DTSTAMP:20260223T175604
CATEGORIES:Musik
ATTACH:https://kalender.karlsruhe.de/db/termine/musik/90er_vs_2000er_party-1/file/icon_large-90vs2000.jpg
END:VEVENT

END:VCALENDAR
