BEGIN:VCALENDAR
VERSION:2.0
CALSCALE:GREGORIAN
PRODID:https://kalender.karlsruhe.de/db/termine/
METHOD:PUBLISH
BEGIN:VEVENT
UID:580280
ORGANIZER;CN=Badisches Staatstheater Karlsruhe:MAILTO:kartenservice@staatstheater.karlsruhe.de
LOCATION:Staatstheater, siehe Beschreibung
SUMMARY:A Midsummer Night’s Dream (Vor der Premiere)
DESCRIPTION;ENCODING=QUOTED-PRINTABLE:Oper in drei Akten von Benjamin Britten=0D=0A=0D=0A
URL:https://kalender.karlsruhe.de/db/termine/musik/a_midsummer_nights_dream_vor_der_premiere
CLASS:PUBLIC
DTSTART:20260511T180000
DTEND:
DTSTAMP:20260421T175523
CATEGORIES:Musik
ATTACH:https://kalender.karlsruhe.de/db/termine/musik/a_midsummer_nights_dream_vor_der_premiere/file/icon_bsk_2025_26_digitale-formate_a-midsummer-nights-dream_stueckseite_682ef51457edc3.98316261.jpg
END:VEVENT

END:VCALENDAR
