BEGIN:VCALENDAR
VERSION:2.0
CALSCALE:GREGORIAN
PRODID:https://kalender.karlsruhe.de/db/termine/
METHOD:PUBLISH
BEGIN:VEVENT
UID:580431
ORGANIZER;CN=Kantorat der Ev. Stadtkirche Karlsruhe:MAILTO:kantorat@stadtkirche-karlsruhe.de
LOCATION:Ev. Stadtkirche Karlsruhe
SUMMARY:Abendgold & Männerklang: Von Klassik bis Barbershop
DESCRIPTION;ENCODING=QUOTED-PRINTABLE:Der M=C3=A4nnerchor von Cantus Juvenum Karlsruhe singt auf der Turmterrasse
  der Ev. Stadtkirche Karlsruhe=0D=0A=0D=0A  ABENDGOLD & M=C3=84NNERKLANG: VON KLASS
 IK BIS BARBERSHOP    M=C3=A4nnerchor Cantus Juvenum Karlsruhe  =0D=0A  Leitung:
  Moritz Tempel    Die Veranstaltung findet auf der Turmplattform der Ev. St
 adtkirche Karlsruhe statt\, der Zugang erfolgt von der Pfarrer-L=C3=B6w-Stra
 =C3=9Fe aus. Die Turmplattform ist leider nicht barrierefrei erreichbar.   
  Eintritt frei\, um Spenden wird gebeten =20
URL:https://kalender.karlsruhe.de/db/termine/musik/abendgold_mannerklang_von_klassik_bis_barbershop
CLASS:PUBLIC
DTSTART:20260624T190000
DTEND:
DTSTAMP:20260330T124438
CATEGORIES:Musik
ATTACH:https://kalender.karlsruhe.de/db/termine/musik/abendgold_mannerklang_von_klassik_bis_barbershop/file/icon_Stadtkirche_Karlsruhe.jpg
END:VEVENT

END:VCALENDAR
