BEGIN:VCALENDAR
VERSION:2.0
CALSCALE:GREGORIAN
PRODID:https://kalender.karlsruhe.de/db/termine/
METHOD:PUBLISH
BEGIN:VEVENT
UID:576932
ORGANIZER;CN=Substage Karlsruhe e.V.:MAILTO:info@substage.de
LOCATION:Substage Karlsruhe e.V.
SUMMARY:ACROSS THE BORDER – 35- jähriges Jubiläum!
DESCRIPTION;ENCODING=QUOTED-PRINTABLE:+ Special guests: Big Bag of Sticks & The Krusty Moors =0D=0A=0D=0A  Across the bor
 der lassen seit 35 Jahren den Folk-Punk-Torpedo =C3=BCber die B=C3=BChnen w
 irbeln und zeigen\, dass sie nicht nur eine explosive\, sondern auch langlebi
 ge Leidenschaft f=C3=BCr die Musik vereint. Im Jahr 1991 gegr=C3=BCndet\, wu
 rde die Band aus Remchingen schnell vom Lokalmatador zum Tipp der Szene und
  konnte sich =C3=BCber die Jahre nicht nur eine treue Fangemeinschaft erspi
 elen\, sondern auch ihre Authentizit=C3=A4t wahren. Mitrei=C3=9Fende Melodie
 n und Songs\, die spielend leicht in die Geh=C3=B6rg=C3=A4nge der Fans klett
 ern machen den individuellen Stil von Across the border aus. Sie verbinden 
 Folk und Punk wie kaum eine andere Band und zelebrieren ihre Musikrichtung 
 mit Songs wie "I can't Love this country"\, "Their last crusade" oder "Die N
 acht ist nicht allein zum Schlafen da". Dass Musik auch mit politischen Bot
 schaften Spa=C3=9F machen kann und vielleicht sogar muss\, das beweisen Acro
 ss the border seit Beginn ihrer Laufbahn eindrucksvoll. Eine gesunde Portio
 n leidenschaftlicher Trotz und Durchsetzungswillen schwingt bei ihren Songs
  mit\, ebenso wie die Lust am Leben und Feiern. Geige\, Bass und Drums bauen 
 dabei die Soundkulisse von Across the border\, die durch Akkordeon\, Gitarre 
 und den markanten Gesang komplettiert wird. Tiefgr=C3=BCndige Lyrics gl=C3
 =A4nzen neben mitrei=C3=9Fenden "Feier-Hymnen" und laden die Zuh=C3=B6rer i
 mmer wieder zu einem rasanten und schwei=C3=9Ftreibenden Konzerterlebnis ei
 n.    Einlass: 18:00 Uhr    Altersfreigabe: ab 16 Jahren =20
URL:https://kalender.karlsruhe.de/db/termine/musik/across_the_border_35_jahriges_jubilaum-1
CLASS:PUBLIC
DTSTART:20261031T190000
DTEND:
DTSTAMP:20251201T175516
CATEGORIES:Musik
ATTACH:https://kalender.karlsruhe.de/db/termine/musik/across_the_border_35_jahriges_jubilaum-1/file/icon_large-across-the-border-bandfoto.jpg
END:VEVENT

END:VCALENDAR
