BEGIN:VCALENDAR
VERSION:2.0
CALSCALE:GREGORIAN
PRODID:https://kalender.karlsruhe.de/db/termine/
METHOD:PUBLISH
BEGIN:VEVENT
UID:578598
ORGANIZER;CN=Alpha Marketing GmbH:MAILTO:alphamarketing@t-online.de
LOCATION:Karlsruhe Messplatz
SUMMARY:After Work Party Karlsruher Oktoberfest
DESCRIPTION;ENCODING=QUOTED-PRINTABLE:Feierabend\, Feierlaune\, Feiergaudi...  am 01.10.2026 hei=C3=9Ft es: After W
 ork Party auf dem Karlsruher Oktoberfest!=0D=0A=0D=0A  Kommt vorbei uns lasst es mi
 t uns krachen.    Am 01.10.2026 hei=C3=9Ft es: After Work Party auf dem Kar
 lsruher Oktoberfest!    Mit Calvin Kleinen\, Frenzy und DJ Timo Scheppert wi
 rd der Donnerstag zum perfekten Wochenbreak. Erst B=C3=BCro\, dann direkt in
 s Zelt\, Ma=C3=9F in die Hand und rein ins Wiesnfeeling.    Tickets gibt es 
 unter www.karlsruher-oktoberfest.de    Tickets gibt es unter www.karlsruher
 -oktoberfest.de =20
URL:https://kalender.karlsruhe.de/db/termine/musik/after_work_party_karlsruher_oktoberfest-1
CLASS:PUBLIC
DTSTART:20261001T173000
DTSTAMP:20260128T094915
CATEGORIES:Musik
ATTACH:https://kalender.karlsruhe.de/db/termine/musik/after_work_party_karlsruher_oktoberfest-1/file/icon_Calvin_Frenzy.jpg
END:VEVENT

END:VCALENDAR
