BEGIN:VCALENDAR
VERSION:2.0
CALSCALE:GREGORIAN
PRODID:https://kalender.karlsruhe.de/db/termine/
METHOD:PUBLISH
BEGIN:VEVENT
UID:579714
ORGANIZER;CN=Substage Karlsruhe e.V.:MAILTO:info@substage.de
LOCATION:Substage Karlsruhe e.V.
SUMMARY:AGNOSTIC FRONT
DESCRIPTION;ENCODING=QUOTED-PRINTABLE:EU SUMMER TOUR 2026=0D=0A=0D=0A  AGNOSTIC FRONT + Support    Die 1982 gegr=C3=BCnde
 te Band AGNOSTIC FRONT z=C3=A4hlt zu den angesehensten Pionieren des Hardco
 re-Genres. Keine andere Band kommt ihnen in Sachen klanglicher und gesellsc
 haftlicher Authentizit=C3=A4t und Aufrichtigkeit nahe. Der =C3=9Cberlebensk
 ampf auf der Stra=C3=9Fe hat buchst=C3=A4blich Leben eingehaucht und einen 
 Sound geschaffen\, der heute noch genauso wirkungsvoll ist wie vor =C3=BCber
  vier Jahrzehnten. AGNOSTIC FRONTs brachialer\, sozialkritischer Sound bilde
 t das Fundament des echten New Yorker Hardcore und trug ma=C3=9Fgeblich zur
  Entstehung des Crossover-Thrash bei. Nach einer Reihe energiegeladener Alb
 en pr=C3=A4sentiert die Band\, angef=C3=BChrt vom unverwechselbaren Gesang v
 on Roger Miret und dem legend=C3=A4ren Gitarrenspiel von Vinnie Stigma\, auf
  =E2=80=9EEchoes in Eternity=E2=80=9C weiterhin schonungslos ehrliche Texte
  und ihre charakteristische Aggressivit=C3=A4t.    Einlass: 19:00 Uhr    Al
 tersfreigabe: ab 16 Jahren =20
URL:https://kalender.karlsruhe.de/db/termine/musik/agnostic_front
CLASS:PUBLIC
DTSTART:20260619T200000
DTEND:
DTSTAMP:20260305T175558
CATEGORIES:Musik
ATTACH:https://kalender.karlsruhe.de/db/termine/musik/agnostic_front/file/icon_large-kein-titel--1920-x-720-px---1280-x-790-px-.jpg
END:VEVENT

END:VCALENDAR
