BEGIN:VCALENDAR
VERSION:2.0
CALSCALE:GREGORIAN
PRODID:https://kalender.karlsruhe.de/db/termine/
METHOD:PUBLISH
BEGIN:VEVENT
UID:580644
ORGANIZER;CN=Substage Karlsruhe e.V.:MAILTO:info@substage.de
LOCATION:Substage Karlsruhe e.V.
SUMMARY:ALPHA WOLF
DESCRIPTION;ENCODING=QUOTED-PRINTABLE:+ PSYCHO-FRAME// FOX LAKE// DIAMOND CONSTRUCT Let it Rip Tour EU/UK 2026=0D=0A$
 $  In the ever-evolving sonic landscape of Alpha Wolf\, their music transfor
 ms like a shapeshifting beast\, defying expectations and breaking through bo
 undaries with the weight of wrecking-ball dynamics and captivating off-kilt
 er hooks. The Australian quinte has maintained their intensity on their thi
 rd full-length offering\, Half Living Things\, self-producing and weaving tog
 ether a visceral vision after years on the road. The album title perfectly 
 encapsulates their state of being.  =0D=0A  With a decade of sparking intrinsic
  reactions from audiences\, Alpha Wolf crashed into the Top 30 of the ARIA A
 lbums Chart with Mono [2017] followed up with A Quiet Place To Die [2020] d
 ebuting at #6 on the ARIA Albums Chart\, earning a nomination for =E2=80=9CB
 est Hard Rock or Heavy Metal Album=E2=80=9D at the ARIA Awards. KERRANG! ra
 ted it =E2=80=9C4-out-of-5 stars\,=E2=80=9D and Distorted Sound called it 
 =E2=80=9Cone of the great extreme/hardcore records of recent memory. This d
 idn=E2=80=99t stop with Half Living Things\, debuting at #2 on the ARIA Aust
 ralian charts\, and earning themselves a Grammy nomination for best boxed or
  limited edition packaging\, with The Livewire saying =E2=80=9CAlpha Wolf ar
 e on the precipice of something huge. I=E2=80=99ve said for years that they
  could be the next big breakout Australian metalcore act=E2=80=9D.  =0D=0A  The
 ir international touring schedule reads like a novel\, including North Ameri
 can tours with scene giants such as Motionless In White\, Knocked Loose & Da
 yseeker\, festival performances at Knotfest Australia alongside Slipknot\, Pa
 rkway Drive\, Megadeth\, and more. While 2024 saw the return of their self-br
 anded festival CVLT FEST\, as well as their debut headline tour in the USA w
 ith multiple sold out shows across the country\, their debut on the European
  festival circuit\, and coming to a head with their biggest Australian tour 
 to date\, a complete sell out including iconic venues such as Forum Theatre 
 in Melbourne\, and their biggest headline show to date at Fortitude Music Ha
 ll in Brisbane.  =0D=0A  In 2025\, Alpha Wolf continued their unrelenting ascent
 \, solidifying their position as one of modern metalcore=E2=80=99s most domi
 nant forces. Riding the continued success of Half Living Things\, their rele
 ntless touring schedule has seen them return to Asia\, tackle their longest 
 Australian headline tour with 20 dates across regional cities\, a 30 date No
 rth American tour playing their biggest shows yet in the region\, and finall
 y ending the year across Europe & the UK.    Einlass: 17:30 Uhr    Altersfr
 eigabe: ab 16 Jahren =20
URL:https://kalender.karlsruhe.de/db/termine/musik/alpha_wolf
CLASS:PUBLIC
DTSTART:20261008T183000
DTEND:
DTSTAMP:20260414T175553
CATEGORIES:Musik
ATTACH:https://kalender.karlsruhe.de/db/termine/musik/alpha_wolf/file/icon_large-alpha-wolf-2026.jpg
END:VEVENT

END:VCALENDAR
