BEGIN:VCALENDAR
VERSION:2.0
CALSCALE:GREGORIAN
PRODID:https://kalender.karlsruhe.de/db/termine/
METHOD:PUBLISH
BEGIN:VEVENT
UID:572691
ORGANIZER;CN=Tollhaus Karlsruhe - Freier Kulturverein e.V.:MAILTO:info@tollhaus.de
LOCATION:Kulturzentrum Tollhaus
SUMMARY:ALTE BEKANNTE
DESCRIPTION;ENCODING=QUOTED-PRINTABLE:=E2=80=9EMehr! Live=E2=80=9C=0D=0A=0D=0AAlte Bekannte wollen mehr: Mehr neue Songs 
 und mehr tolle Konzertabende mit noch mehr glu=CC=88cklichen Konzertbesuche
 r:innen. Kurz =E2=80=9EMehr! - Live=E2=80=9C. =0D=0A Ab 2025 pra=CC=88sentieren
  Alte Bekannte ihr bereits fu=CC=88nftes Bu=CC=88hnenprogramm (in sieben Ja
 hren). Die =E2=80=9EWise Guys-Nachfolger=E2=80=9C pr=C3=A4sentieren erneut 
 musikalisch wie textlich hervorragende Songs und ihre ausgesprochen unterha
 ltsamen Moderationen garantieren etwas\, das man in diesen Tagen gut brauche
 n kann: Richtig gute Laune! =0D=0A Teil des Programms sind neben neuen Songs au
 ch wieder einige Hits ihrer fru=CC=88heren Alben sowie handverlesene =E2=80
 =9Eunkaputtbare=E2=80=9C Lieder ihrer Vorga=CC=88ngerband: witzig\, nachdenk
 lich und ha=CC=88ufig a=CC=88u=C3=9Ferst tanzbar. Ein Abend\, der noch lange
  nachklingt und nur ein Gefu=CC=88hl erzeugt: =E2=80=9EMehr! - Live=E2=80
 =9C.=20
URL:https://kalender.karlsruhe.de/db/termine/musik/alte_bekannte
CLASS:PUBLIC
DTSTART:20261017T200000
DTEND:
DTSTAMP:20250723T175522
CATEGORIES:Musik
ATTACH:https://kalender.karlsruhe.de/db/termine/musik/alte_bekannte/file/icon_20231028_altebekannte-niixgehtueberlive_768_635d07dfc383a8.55986298_1_1.jpg
END:VEVENT

END:VCALENDAR
