BEGIN:VCALENDAR
VERSION:2.0
CALSCALE:GREGORIAN
PRODID:https://kalender.karlsruhe.de/db/termine/
METHOD:PUBLISH
BEGIN:VEVENT
UID:580510
ORGANIZER;CN=Café NUN / NUN Kulturraum e.V.:MAILTO:simon@nun.cafe
LOCATION:Café NUN
SUMMARY:Ansa Sauermann | Café NUN
DESCRIPTION;ENCODING=QUOTED-PRINTABLE:Ansa Sauermann ist Jahr 2026 mit seinem neuen Album =E2=80=9EGehts noch=E2
 =80=9C auf ausgiebiger Tour mit seiner Band. Gegen Jahresende gibt es ansch
 lie=C3=9Fend noch eine handvoll Solo-Konzerte und diese f=C3=BChren Ansa am
  13. November wieder zu uns uns NUN=0D=0A=0D=0A    ANSA SAUERMANN (SOLO)   =0D=0A   WOR
 AUF HABEN WIR GEWARTET        WANN DENN NUN?    =0D=0A  Samstag\, 13. November 2
 026 20:30 Uhr (Einlass: 19:00 Uhr)      WO DENN NUN?    =0D=0A  Caf=C3=A9 NUN\, 
 Gottesauer Stra=C3=9Fe 35\, Karlsruhe    Tickets: VVK 16\,00 =E2=82=AC | AK: 
 18\,00 =E2=82=AC | Tickets gibts im NUN-Ticketshop    Mehr =C3=9Cber     Ans
 a Sauermann    : Instagram | Facebook | Website | Spotify | Youtube      AN
 SA SAUERMANN =E2=80=93 SOLO: WORAUF HABEN WIR GEWARTET =E2=80=93 2026      
 Sp=C3=A4testens  nach den gro=C3=9Fen Tourneen als Support von Element of C
 rime und Faber im  Sommer 2025\, hatte sich Ansa wieder in die Kraft des Min
 imalismus  verliebt. Gibt man den Liedern gen=C3=BCgend Raum\, neu arrangier
 t und in  frisches Gewand gekleidet\, entfalten sie eine ganz besondere Magi
 e und  Wirkung. Ob st=C3=BCrmisch-laut mit Akustik-Gitarre und Kickdrum\, od
 er  elektrisch-vertr=C3=A4umt an der Stromgitarre\, seine Texte klingen und 
 wirken  in diesem Rahmen aufregend neu und aktuell. Auf seiner ersten  Solo
 -Tournee durch Deutschland begibt er sich auf eine Zeitreise durch  die let
 zten zw=C3=B6lf Jahre\, vier Alben und zwei EPs. =C3=9Cber 50 Songs sind in 
  dieser Zeit entstanden. In einem ganz neuen Programm pr=C3=A4sentiert Ansa
   Sauermann neben seinen gr=C3=B6=C3=9Ften Hits auch die ihm pers=C3=B6nlic
 h liebsten  Werke seiner musikalischen Schaffenskraft.      ZW=C3=96LF JAHR
 E =E2=80=93 VIER ALBEN : EIN MUSIKALISCHES BEST OF      Am 27.  Februar die
 ses Jahres\, hat Ansa sein neuestes Studioalbum =E2=80=9EGehts noch=E2=80=9C
   ver=C3=B6ffentlicht und mit seiner Band auf die B=C3=BChnen Deutschlands\,
   =C3=96sterreichs und der Schweiz gebracht. W=C3=A4hrend die Welt da draus
 sen  zusehens aus den Fugen ger=C3=A4t\, ist es kein Wunder\, dass es nicht n
 ur  seine politischste\, sondern auch die rockigste und lauteste Platte  gew
 orden ist. Immerhin war seine erste Gitarre auch eine elektrische.  Den Bew
 eis\, dass diese neuen Songs allerdings nicht nur mit dem Volume  Regler auf
  Anschlag mit Band funktionieren\, bringt Sauermann nun auf  seiner =E2=80
 =9EWorauf haben wir gewartet=E2=80=9C Solo-Tour im Herbst 2026. Auf einer  
 biografischen Reise von Dresden =C3=BCber Wien in die Welt\, pr=C3=A4sentier
 t er  neben vielen =C3=A4lteren auch aktuelle und sogar einen g=C3=A4nzlich
  neuen\, noch  unver=C3=B6ffentlichten Song.      Zwischen Gr=C3=B6=C3=9Fe u
 nd Wahnsinn =E2=80=93 Zwischen verliebt und verbraucht   =0D=0A   Zur=C3=BCck v
 om Gro=C3=9Fen ins Kleine =E2=80=93 Und etwas weniger laut       =20
URL:https://kalender.karlsruhe.de/db/termine/musik/ansa_sauermann_cafe_nun-1
CLASS:PUBLIC
DTSTART:20261113T203000
DTEND:20261113T230000
DTSTAMP:20260330T124440
CATEGORIES:Musik
ATTACH:https://kalender.karlsruhe.de/db/termine/musik/ansa_sauermann_cafe_nun-1/file/icon_Ansa © Anna Stocker.jpg
END:VEVENT

END:VCALENDAR
