BEGIN:VCALENDAR
VERSION:2.0
CALSCALE:GREGORIAN
PRODID:https://kalender.karlsruhe.de/db/termine/
METHOD:PUBLISH
BEGIN:VEVENT
UID:580945
ORGANIZER;CN=Substage Karlsruhe e.V.:MAILTO:info@substage.de
LOCATION:Substage Karlsruhe e.V.
SUMMARY:ARCHSPIRE
DESCRIPTION;ENCODING=QUOTED-PRINTABLE:+ CROWN MAGNETAR// THE ZENITH PASSAGE// ANALEPSY European Vacation Tour 202
 6=0D=0A=0D=0A  Since 2009\, ARCHSPIRE has aimed to be one thing above all else: extr
 eme. With their    upcoming release =E2=80=98TOO FAST TO DIE\,=E2=80=99 they
 =E2=80=99ve once again raised the bar for what extreme    music can be.    
 =E2=80=9CWe=E2=80=99re like a bit of meth in your cigarette\,=E2=80=9D says 
 vocalist Oliver Rae Aleron\, describing the    band=E2=80=99s unhinged live 
 show. =E2=80=9CI think people don=E2=80=99t quite know how to describe what
  they=E2=80=99re    hearing.=E2=80=9D    Now five albums deep\, the band con
 tinues to push the limits of speed and virtuosity while    somehow keeping 
 a sharp focus on hooks. Their music sits on a knife=E2=80=99s edge of =E2
 =80=9Ctoo much\,=E2=80=9D    and just when you think you=E2=80=99ve hit over
 load\, they drop in a soaring melody or a meticulously    crafted clean sect
 ion long enough for you to breathe\; before throwing you back into a rap-flo
 w    vocal assault or some of the fastest drumming you=E2=80=99ll ever hear
 .    In 2025\, ARCHSPIRE announced their new drummer\, Spencer Moore\, marking
  a shift in the    band=E2=80=99s trajectory. New blood brings new influenc
 es\, and with the first single =E2=80=9CCarrion    Ladder\,=E2=80=9D they int
 end to show exactly how quickly he proved himself.    =E2=80=9CI had to ste
 p my game up fast to pull off the new material\,=E2=80=9D Spencer explains. 
 =E2=80=9CBut once we    started tracking\, everything felt comfortable and n
 atural.=E2=80=9D    Recorded in 2025\, the album reunites the band with worl
 d-renowned producer Dave    Otero (Cattle Decapitation\, Khemmis) for the th
 ird time. They locked themselves inside his    Denver studio for several mo
 nths\, cutting out distractions and dedicating themselves entirely    to the
  record.=E2=80=98TOO FAST TO DIE=E2=80=99 follows the critically acclaimed 
 Juno Award winning =E2=80=98Bleed the    Future\,=E2=80=99 and marks the ban
 d=E2=80=99s first fully independent release. Early in the writing process t
 hey    chose to crowdfund the album\, a strategy they=E2=80=99d used before\;
  but nothing prepared them for    the scale of what came next.    They rais
 ed nearly $400\,000 CAD in 30 days\, blowing past their goal in under 24 hour
 s and    confirming that independence was the right move.    =E2=80=9CI was
  actually shaking when I pressed launch\,=E2=80=9D says guitarist Dean Lamb.
  =E2=80=9CWe=E2=80=99d never taken    on something this big\, and all I coul
 d think was\, =E2=80=98man\, I hope we don=E2=80=99t mess this up.=E2=80=99
 =E2=80=9D    =E2=80=98TOO FAST TO DIE=E2=80=99 is set for release on April 
 10\, 2026\, and represents a new chapter    for ARCHSPIRE. Now fully independ
 ent and armed with a revitalized lineup\, they=E2=80=99re intent on    expan
 ding their already rabid fanbase\, pushing the boundaries of extreme metal\, 
 and having a    Einlass: 17:30 Uhr    Altersfreigabe: ab 16 Jahren =20
URL:https://kalender.karlsruhe.de/db/termine/musik/archspire
CLASS:PUBLIC
DTSTART:20261111T183000
DTEND:
DTSTAMP:20260414T175553
CATEGORIES:Musik
ATTACH:https://kalender.karlsruhe.de/db/termine/musik/archspire/file/icon_large-archspire-2025-track-suits-alex-morgan-9.jpg
END:VEVENT

END:VCALENDAR
