BEGIN:VCALENDAR
VERSION:2.0
CALSCALE:GREGORIAN
PRODID:https://kalender.karlsruhe.de/db/termine/
METHOD:PUBLISH
BEGIN:VEVENT
UID:563084
ORGANIZER;CN=Kantorat der Ev. Stadtkirche Karlsruhe:MAILTO:kantorat@stadtkirche-karlsruhe.de
LOCATION:Ev. Stadtkirche Karlsruhe
SUMMARY:Au revoir – Adios – Do svidaniya – Goodbye – Ciao – Arrivederci
DESCRIPTION;ENCODING=QUOTED-PRINTABLE:Abschiedskonzert Prof. Reinhold Friedrich\, Trompete\, mit ehemaligen Studier
 enden aus allen Erdteilen=0D=0A=0D=0A  Au revoir =E2=80=93 Adios =E2=80=93 Do svida
 niya =E2=80=93 Goodbye =E2=80=93 Ciao =E2=80=93 Arrivederci    Abschiedskon
 zert Prof. Reinhold Friedrich\, Trompete\, mit ehemaligen Studierenden aus al
 len Erdteilen    Werke von Bach (u.a. 2. Brandenburgisches Konzert\, 3. Orch
 estersuite) Vivaldi\, Biber\, St=C3=B6lzel und anderen    Kammerorchester  =0D=0A
   Eriko Takezawa\, Klavier  =0D=0A  Christian-Markus Raiser\, Orgel =20
URL:https://kalender.karlsruhe.de/db/termine/musik/au_revoir_adios_do_svidaniya_goodbye_ciao_arrivederci
CLASS:PUBLIC
DTSTART:20260725T190000
DTEND:
DTSTAMP:20260203T150443
CATEGORIES:Musik
ATTACH:https://kalender.karlsruhe.de/db/termine/musik/au_revoir_adios_do_svidaniya_goodbye_ciao_arrivederci/file/icon_Stadtkirche_Karlsruhe_Gr.jpg
END:VEVENT

END:VCALENDAR
