BEGIN:VCALENDAR
VERSION:2.0
CALSCALE:GREGORIAN
PRODID:https://kalender.karlsruhe.de/db/termine/
METHOD:PUBLISH
BEGIN:VEVENT
UID:579797
ORGANIZER;CN=Messe-Karlsruhe Veranstaltungen:MAILTO:
LOCATION:Konzerthaus / Kongresszentrum Karlsruhe
SUMMARY:Biyon Kattilathu
DESCRIPTION;ENCODING=QUOTED-PRINTABLE:Biyon Kattilathu - Eine Reise zum Gl=C3=BCck=0D=0A=0D=0A    Biyon Kattilathu =E2=80
 =93 Eine Reise zum Gl=C3=BCck =E2=80=93 Tour 2025 /2026        Erlebe Biyon
 s neues Live-Programm "Eine Reise zum Gl=C3=BCck" =E2=80=93 eine Feel-Good-
 Show\, die nicht nur f=C3=BCr Lacher\, sondern auch f=C3=BCr jede Menge Inspi
 ration\, Dankbarkeit und Gl=C3=BCck sorgt.   =0D=0A   Biyon nimmt uns mit seinem
  einzigartigen Mix aus Humor und tiefen\, inspirierenden Gedanken mit auf ei
 ne Reise zu uns selbst.   =0D=0A   Hier geht es nicht nur um kurzweilige Unterh
 altung\, sondern um eine tiefgehende Erfahrung\, die das Publikum zum Lachen\,
  Nachdenken und F=C3=BChlen bringt.   =0D=0A   Am Ende bleibt nicht nur ein L
 =C3=A4cheln\, sondern auch das Gef=C3=BChl von Gl=C3=BCck und Dankbarkeit\, d
 as uns noch lange begleitet.   =0D=0A   Sei dabei und komm mit auf eine Reise z
 um Gl=C3=BCck.          Wichtige Informationen zur Anreise und Parkm=C3=B6g
 lichkeiten    =0D=0A      =0D=0A   Bei Gro=C3=9Fveranstaltungen oder parallel statt
 findenden Veranstaltungen kann es zu Engp=C3=A4ssen bei der Verf=C3=BCgbark
 eit unserer Parkpl=C3=A4tze kommen. Bitte beachten Sie\, dass das Verkehrsle
 itsystem die Belegung der Tiefgarage nicht in Echtzeit anzeigt. Daher empfe
 hlen wir\, fr=C3=BChzeitig anzureisen.   =0D=0A   Sollte die Tiefgarage voll sei
 n\, empfehlen wir die Nutzung nahegelegener Parkh=C3=A4user.   =0D=0A   F=C3=BCr
  eine stressfreie Anreise raten wir zudem\, die =C3=B6ffentlichen Verkehrsmi
 ttel zu nutzen =E2=80=93 die Haltestellen befinden sich direkt an unseren G
 eb=C3=A4uden und sind in weniger als 3 Minuten zu Fu=C3=9F erreichbar. Auch
  das Fahrrad stellt eine praktische und umweltfreundliche Option dar.      
   Vielen Dank f=C3=BCr Ihr Verst=C3=A4ndnis. Wir w=C3=BCnschen Ihnen eine a
 ngenehme Anreise und viel Freude bei der Veranstaltung!   =0D=0A       Ihr Team
  der Messe Karlsruhe        Einlass: 18:30 Uhr Einlass Saal: 19:30 Uhr Begi
 nn: 20:00 Uhr =20
URL:https://kalender.karlsruhe.de/db/termine/musik/biyon_kattilathu-1
CLASS:PUBLIC
DTSTART:20260516T000000
DTEND:20260517T000000
DTSTAMP:20260422T175613
CATEGORIES:Musik
ATTACH:https://kalender.karlsruhe.de/db/termine/musik/biyon_kattilathu-1/file/icon_cWwlaez_62tRljEFLQ0VO9SQr8kpaAJ9Fjtyw_fgR6GAvrDgWeiemLyta2kh6v9E09Dv8AmapyvoQBvIJ158UmuEx_OyteUYzp0=s0.jpg
END:VEVENT

END:VCALENDAR
