BEGIN:VCALENDAR
VERSION:2.0
CALSCALE:GREGORIAN
PRODID:https://kalender.karlsruhe.de/db/termine/
METHOD:PUBLISH
BEGIN:VEVENT
UID:580134
ORGANIZER;CN=KlangKunst in der Hemingway Lounge e. V.:MAILTO:presse@hemingwaylounge.de
LOCATION:Kleine Kirche am Marktplatz
SUMMARY:BLUE CHURCH . DUO Stefan Karl Schmid & Lars Duppler
DESCRIPTION;ENCODING=QUOTED-PRINTABLE:Stefan Karl Schmid (ts & ss & cl) & Lars Duppler (p) . Klaus Nagorni (words
 )=0D=0A=0D=0A  Seit mehr als zehn Jahren verbindet den Saxofonisten und Klarinettis
 ten     Stefan Karl Schmid    und den Pianisten     Lars Duppler    eine in
 tensive musikalische Partnerschaft. Aus der Auseinandersetzung mit der Musi
 k ihrer zweiten Heimat Island entwickelte das Duo einen unverwechselbaren K
 lang: atmosph=C3=A4risch\, nuancenreich und getragen von gro=C3=9Fer improvi
 satorischer Freiheit. Ihre Programme verbinden eigene Kompositionen mit Bea
 rbeitungen traditioneller isl=C3=A4ndischer Musik und entfalten dabei weit 
 gespannte Klanglandschaften. Nach dem Deb=C3=BCtalbum =E2=80=9EHringfer=C3
 =B0=E2=80=9C\, das in Zusammenarbeit mit dem Deutschlandfunk K=C3=B6ln entst
 and\, reisten die Musiker f=C3=BCr ihr Album =E2=80=9EBL=C3=8D=C3=90UR=E2=80
 =9C nach Island. Beide K=C3=BCnstler z=C3=A4hlen zu den profilierten Stimme
 n der deutschen Jazzszene und sind sowohl mit eigenen Projekten als auch al
 s gefragte Sidemen aktiv. In der Reihe Blue Church erweitert     Klaus Nago
 rni    den musikalischen Dialog um eine literarische Ebene und verbindet Ja
 zz\, Atmosph=C3=A4re und Wortkunst zu einem besonderen Konzerterlebnis.    K
 leine Kirche . Kaiserstrasse=C2=A0131 . 76133 Karlsruhe=C2=A0.=C2=A0www.tic
 kets-stadtkirche.de =20
URL:https://kalender.karlsruhe.de/db/termine/musik/blue_church_duo_stefan_karl_schmid_lars_duppler
CLASS:PUBLIC
DTSTART:20260429T193000
DTEND:20260429T213000
DTSTAMP:20260324T091839
CATEGORIES:Musik
ATTACH:https://kalender.karlsruhe.de/db/termine/musik/blue_church_duo_stefan_karl_schmid_lars_duppler/file/icon_260429_HL_Karl-F. Degenhardt.jpg
END:VEVENT

END:VCALENDAR
