BEGIN:VCALENDAR
VERSION:2.0
CALSCALE:GREGORIAN
PRODID:https://kalender.karlsruhe.de/db/termine/
METHOD:PUBLISH
BEGIN:VEVENT
UID:576901
ORGANIZER;CN=Kantorat der Ev. Stadtkirche Karlsruhe:MAILTO:kantorat@stadtkirche-karlsruhe.de
LOCATION:Kleine Kirche Karlsruhe
SUMMARY:Blue Church: Jazz & Texte
DESCRIPTION;ENCODING=QUOTED-PRINTABLE:=E2=80=9EIsland=E2=80=9C - Duo Stefan-Karl Schmid\, sax & Lars Duppler\, pian
 o=0D=0A=0D=0A  BLUE CHURCH: JAZZ & TEXTE    =E2=80=9EIsland=E2=80=9C    Duo Stefan-
 Karl Schmid\, sax & Lars Duppler\, piano    Klaus Nagorni\, words    Veranstal
 tung in Kooperation mit der Hemingway Lounge Karlsruhe    Kartenvorverkauf:
   =0D=0A  > www.tickets-stadtkirche.de  =0D=0A  > Musikhaus Schlaile\, Kaiserstr. 17
 5\, Karlsruhe  =0D=0A  > Touristinformation Karlsruhe\, Marktplatz  =0D=0A  > Buchhan
 dlung M=C3=A4chtlinger\, Pfinztalstr. 36\, Durlach  =0D=0A =20
URL:https://kalender.karlsruhe.de/db/termine/musik/blue_church_jazz_texte-7
CLASS:PUBLIC
DTSTART:20260429T193000
DTEND:
DTSTAMP:20251203T140030
CATEGORIES:Musik
ATTACH:https://kalender.karlsruhe.de/db/termine/musik/blue_church_jazz_texte-7/file/icon_Kleine_Kirche_Karlsruhe_Gr.jpg
END:VEVENT

END:VCALENDAR
