BEGIN:VCALENDAR
VERSION:2.0
CALSCALE:GREGORIAN
PRODID:https://kalender.karlsruhe.de/db/termine/
METHOD:PUBLISH
BEGIN:VEVENT
UID:578303
ORGANIZER;CN=Die Spiegelfechter:MAILTO:info@spiegelfechter.de
LOCATION:Kabarett in der Orgelfabrik - die Spiegelfechter
SUMMARY:BLUES FOR FRETS
DESCRIPTION;ENCODING=QUOTED-PRINTABLE:Blues for Frets f=C3=BChrt Sie auf eine Reise durch die Vielfalt akustische
 r\, bluesorientierter Musik der =C3=A4lteren und neueren Generation.=0D=0A=0D=0A  Bl
 ues for Frets=C2=A0f=C3=BChrt Sie auf eine Reise durch die Vielfalt akustis
 cher\, bluesorientierter Musik der =C3=A4lteren und neueren Generation. Durc
 h die Besetzung mit verschiedenen akustischen Instrumenten: 6- und 12- sait
 ige Gitarre\, Resonatorgitarre\, Mandoline\, Ukulele\, Kontrabass und Bluesharp
  entsteht ein vielseitiger Sound. Wer bei Blues ausschlie=C3=9Flich an lang
 same\, jammervolle Lieder denkt\, ist auf dem falschen (Mississippi-) Dampfer
 . Viele Bluesmusiker\, vor allem der Vorkriegszeit\, waren Unterhaltungsmusik
 er\, zu deren Musik getanzt und gefeiert wurde.    Die wunderbare Blues-Trup
 pe bedienet sich der ganzen Bandbreite dieser Musik und setzt diese origina
 lgetreu sowie in Eigeninterpretationen um. Als Erg=C3=A4nzung zur Musik erz
 =C3=A4hlen sie Geschichten zu den Interpreten\, den Komponisten\, den Songs u
 nd den verwendeten Instrumenten.    Seien Sie dabei. Wir freuen uns auf Sie
 !  =0D=0A    Eintrittspreise & Eintritt      Regul=C3=A4rer Preis: 22 =E2=82=AC
       Erm=C3=A4=C3=9Figung f=C3=BCr Sch=C3=BCler und Studenten: 18 =E2=82
 =AC      Solidarit=C3=A4tsticket: 25 =E2=82=AC      Einlass: 19:30 Uhr     
  Beginn: 20:15 Uhr   =20
URL:https://kalender.karlsruhe.de/db/termine/musik/blues_for_frets-4
CLASS:PUBLIC
DTSTART:20260502T201500
DTEND:20260502T220000
DTSTAMP:20260127T083916
CATEGORIES:Musik
ATTACH:https://kalender.karlsruhe.de/db/termine/musik/blues_for_frets-4/file/icon_Tabou Lounge-4 er.jpg
END:VEVENT

END:VCALENDAR
