BEGIN:VCALENDAR
VERSION:2.0
CALSCALE:GREGORIAN
PRODID:https://kalender.karlsruhe.de/db/termine/
METHOD:PUBLISH
BEGIN:VEVENT
UID:576931
ORGANIZER;CN=Substage Karlsruhe e.V.:MAILTO:info@substage.de
LOCATION:Substage Karlsruhe e.V.
SUMMARY:BURY TOMORROW
DESCRIPTION;ENCODING=QUOTED-PRINTABLE:                                                                           
                                                                            
                                                                            
                                                                            
                                                                            
                           ...=0D=0A=0D=0A  + WE CAME AS ROMANS + BOUNDARIES    ACHT
 UNG: Die Tickets f=C3=BCr diese Show gibt es auschlie=C3=9Flich =C3=BCber E
 ventim und dadurch nicht vor Ort in unserem VVK-B=C3=BCro    Einlass: 18:00
  Uhr    Altersfreigabe: ab 16 Jahren =20
URL:https://kalender.karlsruhe.de/db/termine/musik/bury_tomorrow
CLASS:PUBLIC
DTSTART:20260623T190000
DTEND:
DTSTAMP:20260422T175604
CATEGORIES:Musik
ATTACH:https://kalender.karlsruhe.de/db/termine/musik/bury_tomorrow/file/icon_large-design-ohne-titel-5-.jpg
END:VEVENT

END:VCALENDAR
