BEGIN:VCALENDAR
VERSION:2.0
CALSCALE:GREGORIAN
PRODID:https://kalender.karlsruhe.de/db/termine/
METHOD:PUBLISH
BEGIN:VEVENT
UID:580944
ORGANIZER;CN=Substage Karlsruhe e.V.:MAILTO:info@substage.de
LOCATION:Substage Karlsruhe e.V.
SUMMARY:CARI CARI – NEUER  Termin- (VERLEGT VOM 05.10.2025)
DESCRIPTION;ENCODING=QUOTED-PRINTABLE:                                                                           
                                                                            
                                                                            
                                                                            
                                                                            
                           ...=0D=0A=0D=0A  Cari Cari sind Stephanie Widmer (Vocals\,
  Drums & Didgeridoo) und Alexander K=C3=B6ck (Vocals\, Guitars). Das Duo leb
 te in London\, Hamburg und Madrid\, bevor sie ihr Deb=C3=BCtalbum =C2=BBANAAN
 A=C2=AB ver=C3=B6ffentlichten. Internationale Medien bezeichnen das Duo abw
 echselnd als =E2=80=9CThe Lovechild Of The Kills and The XX=E2=80=9D (Indie
 Shuffle\, US) "with a pinch of Morricone" (FM4\, AUT)\, oder die n=C3=A4chsten
  =E2=80=9CCat Power" (BestBefore\, AUS). Seit ihrer Gr=C3=BCndung hat das Du
 o kompromisslos daran gearbeitet\, ihre eigene Welt zu erschaffen. So wird a
 lles von Musikvideos bis B=C3=BChnenbild in kleinteiliger Handarbeit selbst
  erledigt. Auch diese Liebe zum Detail hat der Band eine loyale Fangemeinde
  verschafft: Der Rolling Stone nannte Cari Cari die wichtigste Live-Entdeck
 ung des Primavera Sound Festivals in Barcelona\, ihre Konzerte f=C3=BCllen H
 allen in ganz Europa und das aktuelle Album =E2=80=9CWelcome To Kookoo Isla
 nd=E2=80=9D wurde von NME\, BBC Radio 1\, KCRW und vielen mehr in h=C3=B6chst
 en T=C3=B6nen gelobt.    Einlass: 19:00 Uhr    Altersfreigabe: ab 16 Jahren
  =20
URL:https://kalender.karlsruhe.de/db/termine/musik/cari_cari_neuer_termin_verlegt_vom05102025n
CLASS:PUBLIC
DTSTART:20260731T200000
DTEND:
DTSTAMP:20260414T175552
CATEGORIES:Musik
ATTACH:https://kalender.karlsruhe.de/db/termine/musik/cari_cari_neuer_termin_verlegt_vom05102025n/file/icon_large-cari-cari-press-2025--c--andreas-jakwerth-0985.jpg
END:VEVENT

END:VCALENDAR
